BEGIN:VCALENDAR
VERSION:2.0
PRODID:-//ChamberMaster//Event Calendar 2.0//EN
METHOD:PUBLISH
X-PUBLISHED-TTL:P3D
REFRESH-INTERVAL:P3D
CALSCALE:GREGORIAN
BEGIN:VEVENT
DTSTART:20190425T200000Z
DTEND:20190425T230000Z
X-MICROSOFT-CDO-ALLDAYEVENT:FALSE
SUMMARY:2019 Business Expo (Members only)
DESCRIPTION:Join us this year at the Redemption Church Student Center for our Second Annual Business Expo! Last year's event was such a success that we had to find a larger venue to accommodate our participants! Don't miss out on this opportunity to showcase your business to the community. Register TODAY!\n\n\n\nWe will once again have our ticket chance/silent auction that we are naming "Chamber Chance". You will be able to purchase tickets for our raffle items and drop them into the bin of the item you would like to take a chance on winning. This fundraiser helps to fund our many programs and services throughout the year.
X-ALT-DESC;FMTTYPE=text/html:<span style="color: rgb(29\, 33\, 41)\; font-family: Helvetica\, Arial\, sans-serif\; font-size: 14px\; white-space: pre-wrap\;">Join us this year at the Redemption Church Student Center for our Second Annual Business Expo! Last year&#39\;s event was such a success that we had to find a larger venue to accommodate our participants! Don&#39\;t miss out on this opportunity to showcase your business to the community. Register TODAY!<br />\n<br />\nWe will once again have our ticket chance/silent auction that we are naming &quot\;Chamber Chance&quot\;. You will be able to purchase tickets for our raffle items and drop them into the bin of the item you would like to take a chance on winning. This fundraiser helps to fund our many programs and services throughout the year. </span>
LOCATION:Redemption Church Student Center pin 1251 Industrial Pkwy\, Saraland\, AL 36571
UID:e.3406.17
SEQUENCE:3
DTSTAMP:20260421T153825Z
URL:https://business.saralandchamber.com/events/details/2019-business-expo-members-only-17
END:VEVENT

END:VCALENDAR
