BEGIN:VCALENDAR
VERSION:2.0
PRODID:-//ChamberMaster//Event Calendar 2.0//EN
METHOD:PUBLISH
X-PUBLISHED-TTL:P3D
REFRESH-INTERVAL:P3D
CALSCALE:GREGORIAN
BEGIN:VEVENT
DTSTART:20251001T050000Z
DTEND:20260228T060500Z
X-MICROSOFT-CDO-ALLDAYEVENT:FALSE
SUMMARY:2026 Partners in Progress Sponsorship Campaign
DESCRIPTION:The Saraland Chamber Foundation is excited to announce the launch of our 2026 Sponsorship Campaign- "Partners in Progress"! This year marks a new chapter as we transition our annual sponsorship program from the Chamber of Commerce to the Foundation. This shift allows us to expand opportunities and provide even greater value for our members and community partners.\n\n\n\nIn 2025\, thanks to the support of our dedicated partners\, we offered a wide range of impactful programs and events\, including Monthly Membership Luncheons\, Business After Hours and Business Before Hours\, the "Insight" e-newsletter\, community events\, scholarships\, small business workshops\, podcasts\, and membership drives. These initiatives were possible because of businesses like yours businesses committed to strengthening both our local economy and community.\n\n\n\nFor 2026\, we are proud to launch our new and improved "Partners in Progress" Sponsorship Program\, outlined HERE in this detailed packet. Partnership levels are designed to meet a variety of business needs and budgets\, with seven options available.\n\n \n\n\n\n	Legacy Partner   $5\,000*\n	Visionary Partner  $4\,000*\n	Champion Partner   $2\,000\n	Advocate Partner   $1\,250\n	Builder Partner   $500\n	Connector Partner   $250\n	Community Partner   $100\n\n\nBy participating\, your business will not only support a full calendar of Chamber Foundation programs and community initiatives\, but you will also receive recognition and visibility throughout the year. Partners are featured in event promotions\, publications\, and Chamber communications ensuring that your investment is acknowledged at every opportunity.\n\n\n\nA member of our Sponsorship Committee will be reaching out soon to share details and answer any questions you may have. In the meantime\, please don't hesitate to contact us directly if you'd like to secure your sponsorship early.\n\n\n\nThank you for considering this opportunity to invest in the future of our community. We are grateful for your support and look forward to working with you to make 2026 our most impactful year yet.\n\n\n\n*Payment plan available upon request.
X-ALT-DESC;FMTTYPE=text/html:<div>The <strong>Saraland Chamber Foundation</strong> is excited to announce the launch of our <strong>2026 Sponsorship Campaign- &quot\;Partners in Progress&quot\;</strong>! This year marks a new chapter as we transition our annual sponsorship program from the Chamber of Commerce to the Foundation. This shift allows us to expand opportunities and provide even greater value for our members and community partners.<br />\n<br />\nIn 2025\, thanks to the support of our dedicated partners\, we offered a wide range of impactful programs and events\, including Monthly Membership Luncheons\, Business After Hours and Business Before Hours\, the &ldquo\;Insight&rdquo\; e-newsletter\, community events\, scholarships\, small business workshops\, podcasts\, and membership drives.<strong> </strong>These initiatives were possible because of businesses like yours&mdash\;businesses committed to strengthening both our local economy and community.<br />\n<br />\n<span class="a_GcMg font-feature-liga-off font-feature-clig-off font-feature-calt-off text-decoration-none text-strikethrough-none" style="color: rgba(0\,0\,0\,var(--O42jJQ\,1))\; caret-color: rgb(0\, 0\, 0)\; --Ys-XuQ: none\; font-kerning: none\;">For 2026\, we are proud to launch our new and improved <strong>&ldquo\;Partners in Progress&rdquo\;</strong> Sponsorship Program\, outlined </span><span style="font-size:24px\;"><a href="https://chambermaster.blob.core.windows.net/userfiles/UserFiles/chambers/3406/File/2026-Partners-in-Progress-Sponsorship-Proposal.pdf"><strong><span style="color:#008080\;"><span class="a_GcMg font-feature-liga-off font-feature-clig-off font-feature-calt-off text-decoration-none text-strikethrough-none" style="caret-color: rgb(0\, 0\, 0)\; --Ys-XuQ: none\; font-kerning: none\;">HERE</span></span></strong></a></span><span class="a_GcMg font-feature-liga-off font-feature-clig-off font-feature-calt-off text-decoration-none text-strikethrough-none" style="color: rgba(0\,0\,0\,var(--O42jJQ\,1))\; caret-color: rgb(0\, 0\, 0)\; --Ys-XuQ: none\; font-kerning: none\;"> in this detailed packet. Partnership&nbsp\;levels are designed to meet a variety of business needs and budgets\, with seven options available.</span><br />\n&nbsp\;</div>\n\n<div>\n<ul>\n	<li><b>Legacy Partner</b> &ndash\; $5\,000<span style="font-size:18px\;"><span style="color:#0000FF\;"><strong>*</strong></span></span></li>\n	<li><b>Visionary Partner</b>&ndash\; $4\,000<span style="color:#0000FF\;"><span style="font-size:18px\;"><strong>*</strong></span></span></li>\n	<li><b>Champion Partner</b> &ndash\; $2\,000</li>\n	<li><b>Advocate Partner</b> &ndash\; $1\,250</li>\n	<li><b>Builder Partner&nbsp\;</b>&ndash\; $500</li>\n	<li><b>Connector Partner</b>&nbsp\;&ndash\; $250</li>\n	<li><strong>Community&nbsp\;Partner</strong> &ndash\; $100</li>\n</ul>\n</div>\nBy participating\, your business will not only support a full calendar of Chamber Foundation programs and community initiatives\, but you will also receive recognition and visibility throughout the year. Partners are featured in event promotions\, publications\, and Chamber communications&mdash\;ensuring that your investment is acknowledged at every opportunity.<br />\n<br />\nA member of our Sponsorship Committee will be reaching out soon to share details and answer any questions you may have. In the meantime\, please don&rsquo\;t hesitate to contact us directly if you&rsquo\;d like to secure your sponsorship early.<br />\n<br />\nThank you for considering this opportunity to invest in the future of our community. We are grateful for your support and look forward to working with you to make 2026 our most impactful year yet.<br />\n<br />\n<span style="color:#0000FF\;"><strong>*Payment plan available upon request.</strong></span><br />\n&nbsp\;
LOCATION:
UID:e.3406.1156
SEQUENCE:3
DTSTAMP:20260425T222314Z
URL:https://business.saralandchamber.com/events/details/2026-partners-in-progress-sponsorship-campaign-1156
END:VEVENT

END:VCALENDAR
