BEGIN:VCALENDAR
VERSION:2.0
PRODID:-//ChamberMaster//Event Calendar 2.0//EN
METHOD:PUBLISH
X-PUBLISHED-TTL:P3D
REFRESH-INTERVAL:P3D
CALSCALE:GREGORIAN
BEGIN:VEVENT
DTSTART:20251203T000000Z
DTEND:20251203T020000Z
X-MICROSOFT-CDO-ALLDAYEVENT:FALSE
SUMMARY:42nd Annual Christmas Banquet
DESCRIPTION:Enjoy a night of awards and recognitions as we celebrate the accomplishments of 2025.\n\n\n\nDinner catered by A Gathering Place Catering\n\n\n\nWe appreciate our sponsor: Aztecas Restaurant & Cantina\n\n \nIn the spirit of giving\, we encourage you to share the love of Christmas by donating a new\, unwrapped toy to the Sharing Christmas ministry at Destination Church. Toys collected at the banquet will be distributed to local families in need this holiday season. Monetary donations will also be accepted at the event (checks may be made payable to Destination Church).\n\n \nThe 7th Annual Saraland Christmas Ornament- Saraland Black Bears will be available to purchase for $20 each.\n\n2019\, 2020\, 2021\, 2022\, 2023\, and 2024 ornaments will be on sale for $5 each while supplies last.
X-ALT-DESC;FMTTYPE=text/html:<span style="font-size:16px\;"><strong>Enjoy a night of awards and recognitions as we celebrate the accomplishments of 2025.<br />\n<br />\nDinner catered by A Gathering Place Catering<br />\n<br />\n<em>We appreciate our sponsor:&nbsp\;<u><a href="https://www.aztecasrestaurante.com/saraland"><span style="color:#FF8C00\;">Aztecas Restaurant &amp\; Cantina</span></a></u></em></strong></span><br />\n&nbsp\;\n<p data-end="1069" data-start="690"><em><strong><span style="font-size:16px\;"><span style="color:#FF0000\;">In the spirit of giving\, <strong data-end="766" data-start="715">we encourage you to share the love of Christmas</strong> by donating a <strong data-end="803" data-start="781">new\, unwrapped toy</strong> to the <em data-end="830" data-start="811">Sharing Christmas</em> ministry at Destination Church. Toys collected at the banquet will be distributed to local families in need this holiday season. Monetary donations will also be accepted at the event (checks may be made payable to <strong data-end="1067" data-start="1045">Destination Church</strong>).</span></span></strong></em><br />\n&nbsp\;</p>\n<span style="font-size:16px\;"><strong><span style="color:#006400\;"><span style="font-family: sans-serif\, Arial\, Verdana\, &quot\;Trebuchet MS&quot\;\;"><em style=""><b style="">The 7th Annual Saraland Christmas Ornament- Saraland Black Bears</b><b style="font-size: 13px\;">&nbsp\;will be available to purchase for $20 each.</b><br />\n<b style="font-size: 13px\;">2019\, 2020\, 2021\, 2022\, 2023\, and 2024 ornaments will be on sale for $5 each while supplies last.</b></em></span></span></strong></span>
LOCATION:Destination Church 1601 Celeste Road. Saraland\, AL 36571
UID:e.3406.1175
SEQUENCE:3
DTSTAMP:20260426T005324Z
URL:https://business.saralandchamber.com/events/details/42nd-annual-christmas-banquet-1175
END:VEVENT

END:VCALENDAR
