BEGIN:VCALENDAR
VERSION:2.0
PRODID:-//ChamberMaster//Event Calendar 2.0//EN
METHOD:PUBLISH
X-PUBLISHED-TTL:P3D
REFRESH-INTERVAL:P3D
CALSCALE:GREGORIAN
BEGIN:VEVENT
DTSTART;VALUE=DATE:20191001
DTEND;VALUE=DATE:20191101
TRANSP:TRANSPARENT
X-MICROSOFT-CDO-ALLDAYEVENT:TRUE
SUMMARY:4th Annual Women United Diaper Drive
DESCRIPTION:One in three families struggle to provide enough diapers to keep a baby\, toddler\, or special need child clean\, dry\, and healthy. United Way of Southwest Alabama Women United are hosting the 4th Annual Diaper Drive to aide UWSWA partner agencies provide diapers and wipes to families in our community. Women United will be accepting cash donations and donations of diapers for children and adult in all sizes as well as wipes at the UWSWA office
X-ALT-DESC;FMTTYPE=text/html:One in three families struggle to provide enough diapers to keep a baby\, toddler\, or special need child clean\, dry\, and healthy. United Way of Southwest Alabama Women United are hosting the 4th Annual Diaper Drive to aide UWSWA partner agencies provide diapers and wipes to families in our community. Women United will be accepting cash donations and donations of diapers for children and adult in all sizes as well as wipes at the UWSWA office
LOCATION:United Way of Southwest Alabama 218 St. Francis Street Mobile\, 36604
UID:e.3406.55
SEQUENCE:3
DTSTAMP:20260421T084013Z
URL:https://business.saralandchamber.com/events/details/4th-annual-women-united-diaper-drive-55
END:VEVENT

END:VCALENDAR
