BEGIN:VCALENDAR
VERSION:2.0
PRODID:-//ChamberMaster//Event Calendar 2.0//EN
METHOD:PUBLISH
X-PUBLISHED-TTL:P3D
REFRESH-INTERVAL:P3D
CALSCALE:GREGORIAN
BEGIN:VEVENT
DTSTART:20230722T150000Z
DTEND:20230722T170000Z
X-MICROSOFT-CDO-ALLDAYEVENT:FALSE
SUMMARY:5th Annual Back to School Bash
DESCRIPTION:Please join us for our 5th Annual Back to School Bash at Rambo's Skateland!  Children enjoy FREE skate and refreshment.  The first 200 K-5th grade students receive a FREE backpack of school supplies sponsored by local businesses.\n\n\n\nYou can help us fill the bags by purchasing supplies from our wish list link below.  Your business may also donate promotional/school related items as well (pens\, pencils\, rulers\, hand sanitizers\, etc.)  If your business would like to include a FREE or DISCOUNT coupon in the backpack for product or service\, please bring to the chamber or contact us for pick up.  We will also accept monetary donations to help purchase any remaining items needed.  Every business or individual that contributes will be included as a sponsor on the "Thank You" flier included in each backpack\, as well as social media event promotions.  Contact the chamber if you have any questions.\n\n\n\nhttps://www.amazon.com/registries/gl/guest-view/26EUYE0WFGD8F
X-ALT-DESC;FMTTYPE=text/html:Please join us for our 5th Annual Back to School Bash<span style="color: rgb(51\, 51\, 51)\; font-family: sans-serif\, Arial\, Verdana\, &quot\;Trebuchet MS&quot\;\; font-size: 13px\; background-color: rgb(255\, 255\, 255)\;">&nbsp\;at Rambo&#39\;s Skateland!&nbsp\; Children enjoy FREE skate and refreshment.&nbsp\; The first 200 K-5th grade students receive a FREE backpack of school supplies sponsored by local businesses.</span><br />\n<br />\n<strong><span style="font-size: 10pt\; font-family: Arial\, sans-serif\;">You can help us fill the bags by purchasing supplies from our wish list&nbsp\;link below.&nbsp\; Your business may also donate promotional/school related it</span></strong><strong><span style="font-size: 10pt\; font-family: Arial\, sans-serif\;">ems as well (pens\, pencils\, rulers\, hand sanitizers\, etc.)&nbsp\; If your business would like to include a FREE or DISCOUNT coupon in the backpack for product or service\, please bring to the chamber or contact us for pick up.&nbsp\; We will also accept monetary donations to help purchase any remaining items needed.&nbsp\; Every business or individual that contributes will be included as a sponsor on the &quot\;Thank You&quot\; flier included in each backpack\, as well as social media event promotions.&nbsp\; Contact the chamber&nbsp\;if you have any questions.</span><br />\n<br />\n<a href="https://www.amazon.com/registries/gl/guest-view/26EUYE0WFGD8F"><span style="color:#0000FF\;">https://www.amazon.com/registries/gl/guest-view/26EUYE0WFGD8F</span></a></strong><br />\n<br />\n<br />\n&nbsp\;
LOCATION:Rambo's Skateland 531 Saraland Blvd. S Saraland\, AL 36571
UID:e.3406.598
SEQUENCE:3
DTSTAMP:20260423T184813Z
URL:https://business.saralandchamber.com/events/details/5th-annual-back-to-school-bash-598
END:VEVENT

END:VCALENDAR
