BEGIN:VCALENDAR
VERSION:2.0
PRODID:-//ChamberMaster//Event Calendar 2.0//EN
METHOD:PUBLISH
X-PUBLISHED-TTL:P3D
REFRESH-INTERVAL:P3D
CALSCALE:GREGORIAN
BEGIN:VEVENT
DTSTART:20231026T220000Z
DTEND:20231026T233000Z
X-MICROSOFT-CDO-ALLDAYEVENT:FALSE
SUMMARY:5th Annual Trunk or Treat
DESCRIPTION:TRUNK OR TREAT\n\n\n\n\n\n***Only 40 spots available!***  \n\n\n\nRegistered businesses will decorate their vehicle's trunk on Thursday\, October 26th by 4:45 pm\, and pass out candy and/or promotional items to attendees.  This is a great way to promote your business\, meet community members\, and network!\n\n\n\n\n\nSIGN UP TODAY!\n\n\n\n*** HOW TO PLAN...WE ESTIMATE 400-500 CHILDREN TO ATTEND. ***
X-ALT-DESC;FMTTYPE=text/html:<span style="font-size:48px\;"><span style="color:#FF8C00\;"><strong><span style="font-size:72px\;">TRUNK OR TREAT</span></strong></span></span><br />\n<br />\n<br />\n<span style="font-size:36px\;"><span style="color:#FF0000\;">***</span><strong><span style="color:#FF0000\;">Only 40 spots available!***&nbsp\;&nbsp\;</span></strong></span><br />\n<br />\n<span style="font-size:26px\;">Registered businesses will decorate their vehicle&#39\;s trunk on Thursday\, October 26th by 4:45 pm\, and pass out candy and/or promotional items to attendees.&nbsp\; This is a great way to promote your business\, meet community members\, and network!</span><br />\n<br />\n<br />\n<strong><span style="font-size:72px\;">SIGN UP TODAY!</span><br />\n<br />\n<span style="font-size:48px\;"><span style="color:#0000FF\;">*** HOW TO PLAN...WE ESTIMATE 400-500 CHILDREN TO ATTEND. ***</span></span></strong>
LOCATION:Saraland High School (We will set up in the new parking lot. Set-up time is 4:00-4:45pm. Event opens to the public at 5:00pm.)
UID:e.3406.610
SEQUENCE:3
DTSTAMP:20260425T012058Z
URL:https://business.saralandchamber.com/events/details/5th-annual-trunk-or-treat-610
END:VEVENT

END:VCALENDAR
