BEGIN:VCALENDAR
VERSION:2.0
PRODID:-//ChamberMaster//Event Calendar 2.0//EN
METHOD:PUBLISH
X-PUBLISHED-TTL:P3D
REFRESH-INTERVAL:P3D
CALSCALE:GREGORIAN
BEGIN:VEVENT
DTSTART:20191004T163000Z
DTEND:20191004T173000Z
X-MICROSOFT-CDO-ALLDAYEVENT:FALSE
SUMMARY:AOC Groundbreaking
DESCRIPTION:ALABAMA ORTHOPAEDIC CLINIC\, P.C.\n\nGROUNDBREAKING\n\nSARALAND LOCATION
X-ALT-DESC;FMTTYPE=text/html:ALABAMA ORTHOPAEDIC CLINIC\, P.C.<br />\nGROUNDBREAKING<br />\nSARALAND LOCATION&nbsp\;&nbsp\;&nbsp\;&nbsp\;
LOCATION:21 SHELL STREET
UID:e.3406.51
SEQUENCE:3
DTSTAMP:20260421T082050Z
URL:https://business.saralandchamber.com/events/details/aoc-groundbreaking-51
END:VEVENT

END:VCALENDAR
