BEGIN:VCALENDAR
VERSION:2.0
PRODID:-//ChamberMaster//Event Calendar 2.0//EN
METHOD:PUBLISH
X-PUBLISHED-TTL:P3D
REFRESH-INTERVAL:P3D
CALSCALE:GREGORIAN
BEGIN:VEVENT
DTSTART:20190614T220000Z
DTEND:20190615T000000Z
X-MICROSOFT-CDO-ALLDAYEVENT:FALSE
SUMMARY:ASAB Pro Softball Opening Night
DESCRIPTION:Be there for FIRST PITCH as the ASBA Pro Softball League kicks off their 2019 Season
X-ALT-DESC;FMTTYPE=text/html:Be there for FIRST PITCH as the ASBA Pro Softball League kicks off their 2019 Season&nbsp\;&nbsp\;&nbsp\;&nbsp\;
LOCATION:Pat Hicks Softball Field 1 Gator Circle Satsuma\, AL 36572
UID:e.3406.26
SEQUENCE:3
DTSTAMP:20260421T124148Z
URL:https://business.saralandchamber.com/events/details/asab-pro-softball-opening-night-26
END:VEVENT

END:VCALENDAR
