BEGIN:VCALENDAR
VERSION:2.0
PRODID:-//ChamberMaster//Event Calendar 2.0//EN
METHOD:PUBLISH
X-PUBLISHED-TTL:P3D
REFRESH-INTERVAL:P3D
CALSCALE:GREGORIAN
BEGIN:VEVENT
DTSTART:20190605T210000Z
DTEND:20190606T000000Z
X-MICROSOFT-CDO-ALLDAYEVENT:FALSE
SUMMARY:ASBA Draft Night
DESCRIPTION:ASBA Draft Night\n\nJoin in person or watch live on the network at asbasoftball.com
X-ALT-DESC;FMTTYPE=text/html:ASBA Draft Night<br />\nJoin in person or watch live on the network at asbasoftball.com
LOCATION:Moe's Original BBQ 701 Springhill Ave Mobile\, AL 36608
UID:e.3406.28
SEQUENCE:3
DTSTAMP:20260421T123805Z
URL:https://business.saralandchamber.com/events/details/asba-draft-night-28
END:VEVENT

END:VCALENDAR
