BEGIN:VCALENDAR
VERSION:2.0
PRODID:-//ChamberMaster//Event Calendar 2.0//EN
METHOD:PUBLISH
X-PUBLISHED-TTL:P3D
REFRESH-INTERVAL:P3D
CALSCALE:GREGORIAN
BEGIN:VEVENT
DTSTART:20190609T180000Z
DTEND:20190609T220000Z
X-MICROSOFT-CDO-ALLDAYEVENT:FALSE
SUMMARY:ASBA Pro Softball Camp
DESCRIPTION:ASBA Pro Softball Camp for girls ages 8-14. MORE DETAILS AND REGISTRATION PROVIDED ON THE LINK BELOW
X-ALT-DESC;FMTTYPE=text/html:ASBA Pro Softball Camp for girls ages 8-14. MORE DETAILS AND REGISTRATION PROVIDED ON THE LINK BELOW
LOCATION:Saraland Girls Softball (Oscar Driver Park) 101 Tavares Ln. Saraland\, AL 36571
UID:e.3406.27
SEQUENCE:3
DTSTAMP:20260421T134857Z
URL:https://business.saralandchamber.com/events/details/asba-pro-softball-camp-27
END:VEVENT

END:VCALENDAR
