BEGIN:VCALENDAR
VERSION:2.0
PRODID:-//ChamberMaster//Event Calendar 2.0//EN
METHOD:PUBLISH
X-PUBLISHED-TTL:P3D
REFRESH-INTERVAL:P3D
CALSCALE:GREGORIAN
BEGIN:VEVENT
DTSTART:20230825T130000Z
DTEND:20230825T220000Z
X-MICROSOFT-CDO-ALLDAYEVENT:FALSE
SUMMARY:Built for This: Women's Leadership Conference
DESCRIPTION:The Saraland Area Chamber of Commerce and Southwest Mobile Chamber of Commerce are partnering to host our first ever Women's Leadership Conference this August!\n\n \n\nBuilt for This: Women's Leadership Conference will be held on Friday\, August 25th from 8am-5pm at the Gulf Quest Maritime Museum with a VIP pre-conference cocktail event on August 24th from 5-7:30pm for VIP ticketholders\, sponsors\, and speakers.\n\n\n\nWe are excited to offer women the opportunity to come together to learn\, develop\, and be inspired. They will hear from topics including: \n\n \n\nBuilding Your Confidence\n\nBuilding A Healthy Workplace\n\nBuilding Resilience with Keynote Speaker Dr. Saundra Dalton-Smith \n\nBuilding Your Social Media Presence and Brand\n\nAnd many others!\n\n \n\nPurchase tickets for the women in your business and invest in their personal development!\n\n\n\n\n\n\n\n\n\nVIP Ticket: $150\n\nIncludes VIP Cocktail event at Courtyard on Dauphin on Thursday\, August 24th and Conference.\n\n\n\nConference Ticket: $100\n\n\n\nGroup Rate:  $600 (Conference only for table of 8)
X-ALT-DESC;FMTTYPE=text/html:<strong><span style="font-family:arial\,sans-serif\;"><span style="font-size:12.0pt\;">The Saraland Area Chamber of Commerce and Southwest Mobile Chamber of Commerce are partnering to host our first ever Women&rsquo\;s Leadership Conference this August!</span></span></strong><br />\n&nbsp\;<br />\n<strong><span style="color:#002060\;"><span style="font-family:arial\,sans-serif\;"><span style="font-size:12.0pt\;">Built for This: Women&rsquo\;s Leadership Conference will be held on Friday\, August 25<sup>th</sup> from 8am-5pm at the Gulf Quest Maritime Museum with a VIP pre-conference cocktail event on August 24<sup>th</sup> from 5-7:30pm for VIP ticketholders\, sponsors\, and speakers.</span></span></span></strong><br />\n<br />\n<span style="font-family:arial\,sans-serif\;"><span style="font-size:12.0pt\;">We are excited to offer women the opportunity to come together to learn\, develop\, and be inspired. They will hear from topics including: </span></span><br />\n&nbsp\;<br />\n<span style="font-family:arial\,sans-serif\;"><span style="font-size:12.0pt\;">Building Your Confidence</span></span><br />\n<span style="font-family:arial\,sans-serif\;"><span style="font-size:12.0pt\;">Building A Healthy Workplace</span></span><br />\n<span style="font-family:arial\,sans-serif\;"><span style="font-size:12.0pt\;">Building Resilience with Keynote Speaker Dr. Saundra Dalton-Smith </span></span><br />\n<span style="font-family:arial\,sans-serif\;"><span style="font-size:12.0pt\;">Building Your Social Media Presence and Brand</span></span><br />\n<span style="font-family:arial\,sans-serif\;"><span style="font-size:12.0pt\;">And many others!</span></span><br />\n&nbsp\;<br />\n<span style="font-family:arial\,sans-serif\;"><span style="font-size:12.0pt\;">Purchase tickets for the women in your business and invest in their personal development!</span></span><br />\n<br />\n<br />\n<br />\n<br />\nVIP Ticket: $150<br />\nIncludes VIP Cocktail event at Courtyard on Dauphin on Thursday\, August 24th and Conference.<br />\n<br />\nConference Ticket: $100<br />\n<br />\nGroup Rate:&nbsp\; $600 (Conference only for table of 8)
LOCATION:GulfQuest Maritime Museum 155 S. Water Street Mobile\, AL 36602
UID:e.3406.588
SEQUENCE:3
DTSTAMP:20260420T050155Z
URL:https://business.saralandchamber.com/events/details/built-for-this-women-s-leadership-conference-588
END:VEVENT

END:VCALENDAR
