BEGIN:VCALENDAR
VERSION:2.0
PRODID:-//ChamberMaster//Event Calendar 2.0//EN
METHOD:PUBLISH
X-PUBLISHED-TTL:P3D
REFRESH-INTERVAL:P3D
CALSCALE:GREGORIAN
BEGIN:VEVENT
DTSTART:20190815T220000Z
DTEND:20190816T000000Z
X-MICROSOFT-CDO-ALLDAYEVENT:FALSE
SUMMARY:Business After Hours - AZTECAS
DESCRIPTION:A time for you to Explore\, Network\, Learn!\n\nHosted by Donna Gatlin - State Farm Agent
X-ALT-DESC;FMTTYPE=text/html:A time for you to Explore\, Network\, Learn!<br />\nHosted by Donna Gatlin - State Farm Agent
LOCATION:AZTECAS 310 Industrial Parkway Saraland\, AL
UID:e.3406.45
SEQUENCE:3
DTSTAMP:20260421T100011Z
URL:https://business.saralandchamber.com/events/details/business-after-hours-aztecas-45
END:VEVENT

END:VCALENDAR
