BEGIN:VCALENDAR
VERSION:2.0
PRODID:-//ChamberMaster//Event Calendar 2.0//EN
METHOD:PUBLISH
X-PUBLISHED-TTL:P3D
REFRESH-INTERVAL:P3D
CALSCALE:GREGORIAN
BEGIN:VEVENT
DTSTART:20190516T220000Z
DTEND:20190517T000000Z
X-MICROSOFT-CDO-ALLDAYEVENT:FALSE
SUMMARY:Business After Hours- Kalioka Stables
DESCRIPTION:Enjoy the scenic views and great company! Join us at the beautiful Kalioka Stables for after hours networking! This is an opprotunity to connect with fellow chamber members and community leaders.
X-ALT-DESC;FMTTYPE=text/html:Enjoy the scenic views and great company! Join us at the beautiful Kalioka Stables for after hours networking! This is an opprotunity to connect with fellow chamber members and community leaders.&nbsp\;
LOCATION:7949 Herbert Morgan Rd\, Eight Mile\, AL 36613
UID:e.3406.12
SEQUENCE:3
DTSTAMP:20260421T141851Z
URL:https://business.saralandchamber.com/events/details/business-after-hours-kalioka-stables-12
END:VEVENT

END:VCALENDAR
