BEGIN:VCALENDAR
VERSION:2.0
PRODID:-//ChamberMaster//Event Calendar 2.0//EN
METHOD:PUBLISH
X-PUBLISHED-TTL:P3D
REFRESH-INTERVAL:P3D
CALSCALE:GREGORIAN
BEGIN:VEVENT
DTSTART:20260304T133000Z
DTEND:20260304T143000Z
X-MICROSOFT-CDO-ALLDAYEVENT:FALSE
SUMMARY:Coffee Connect with CBMC
DESCRIPTION:Coffee Connect with CBMC Alabama Gulf Coast \n\nMeet with like-minded men to talk about work and life\n\nGary Raymond\, Saraland resident and CBMC leadership team member with be talking about "Good\, Better\, Best"
X-ALT-DESC;FMTTYPE=text/html:Coffee Connect with CBMC Alabama Gulf Coast&nbsp\;<br />\nMeet with like-minded men to talk about work and life<br />\nGary Raymond\, Saraland resident and CBMC leadership team member with be talking about &quot\;Good\, Better\, Best&quot\;<br />\n&nbsp\;
LOCATION:
UID:e.3406.1205
SEQUENCE:3
DTSTAMP:20260425T210548Z
URL:https://business.saralandchamber.com/events/details/coffee-connect-with-cbmc-1205
END:VEVENT

END:VCALENDAR
