BEGIN:VCALENDAR
VERSION:2.0
PRODID:-//ChamberMaster//Event Calendar 2.0//EN
METHOD:PUBLISH
X-PUBLISHED-TTL:P3D
REFRESH-INTERVAL:P3D
CALSCALE:GREGORIAN
BEGIN:VEVENT
DTSTART:20260128T140000Z
DTEND:20260128T150000Z
X-MICROSOFT-CDO-ALLDAYEVENT:FALSE
SUMMARY:Coffee with the Mayor
DESCRIPTION:Please join us for an informal coffee and chat style meeting with Mayor Joe McDonald.\n\n\n\nSPONSORED BY: Realty Executives Bay Group
X-ALT-DESC;FMTTYPE=text/html:<br />\n<span style="font-size:48px\;">Please join us for an informal coffee and chat style meeting with <em>Mayor Joe McDonald</em>.</span><br />\n<br />\n<span style="font-size:36px\;"><b>SPONSORED BY: Realty Executives Bay Group</b></span>
LOCATION:Woman's Club of Saraland
UID:e.3406.1181
SEQUENCE:3
DTSTAMP:20260425T233844Z
URL:https://business.saralandchamber.com/events/details/coffee-with-the-mayor-1181
END:VEVENT

END:VCALENDAR
