BEGIN:VCALENDAR
VERSION:2.0
PRODID:-//ChamberMaster//Event Calendar 2.0//EN
METHOD:PUBLISH
X-PUBLISHED-TTL:P3D
REFRESH-INTERVAL:P3D
CALSCALE:GREGORIAN
BEGIN:VEVENT
DTSTART:20230726T124500Z
DTEND:20230726T134500Z
X-MICROSOFT-CDO-ALLDAYEVENT:FALSE
SUMMARY:Coffee with the Mayor
DESCRIPTION:Please join us for an informal coffee and chat style meeting with Mayor Rubenstein.
X-ALT-DESC;FMTTYPE=text/html:<br />\n<span style="font-size:48px\;">Please join us for an informal coffee and chat style meeting with <em>Mayor Rubenstein</em>.</span><br />\n&nbsp\;
LOCATION:5735 College Pkwy\, Mobile\, AL 36613 Dorsett Hall
UID:e.3406.594
SEQUENCE:3
DTSTAMP:20260423T173204Z
URL:https://business.saralandchamber.com/events/details/coffee-with-the-mayor-594
END:VEVENT

END:VCALENDAR
