BEGIN:VCALENDAR
VERSION:2.0
PRODID:-//ChamberMaster//Event Calendar 2.0//EN
METHOD:PUBLISH
X-PUBLISHED-TTL:P3D
REFRESH-INTERVAL:P3D
CALSCALE:GREGORIAN
BEGIN:VEVENT
DTSTART:20260113T174500Z
DTEND:20260113T190000Z
X-MICROSOFT-CDO-ALLDAYEVENT:FALSE
SUMMARY:January Membership Luncheon
DESCRIPTION:Please join us at the Saraland Civic Center for our Monthly Membership Luncheon with guest speaker\, Mayor Joe McDonald\n"Mayor Joe McDonald is a lifelong resident of Saraland and a proud graduate of Satsuma High School. He went on to earn a Bachelor's Degree in Criminal Justice with a minor in Political Science from the University of South Alabama. For the past 18 years\, he has been employed with SSAB\, where he currently serves as Warehouse Manager.\n\nMayor McDonald previously served four terms on the Saraland City Council and was elected Council President for three of those terms. Throughout his public service\, he has been guided by the values of leadership\, integrity\, honesty\, and community involvement. His priorities for Saraland include responsible\, well-planned growth\; investing in infrastructure\; ensuring competitive pay and support for city employees especially Police and Fire and partnering with local utilities to maintain clean\, safe\, and reliable services. He is also deeply committed to strengthening education and advancing key drainage and roadway projects such as Highway 158 and Celeste Road.\n\nA devoted family man and Christian\, Joe and his wife of 28 years\, Susie\, are the proud parents of four children: Joe Jr.\, Josie\, JP\, and Lulu. The McDonald family are active members of Fountain of Life Church. Mayor McDonald's commitment is simple and heartfelt: to continue Saraland's positive growth while preserving the beauty\, safety\, and hometown spirit that make the city a wonderful place for families today and for generations to come. Go Spartans!"\n\n\n\n\n\n\nWe appreciate this month's sponsor: Laurel Flowers State Farm\n\nCatered by: Georgia Rousso's Catering\n\n \n\nSplit the Pot tickets will be available to purchase for $1 each. (Cash Only) \n\n-Proceeds raised benefit our Junior Ambassador Scholarship program.
X-ALT-DESC;FMTTYPE=text/html:<span style="font-size:14px\;"><span style="font-family:arial\;"><strong><span style="color: rgb(51\, 51\, 51)\;"><span style="color: rgb(68\, 68\, 68)\;">Please join us at th</span></span><span style="color: rgb(51\, 51\, 51)\;">e&nbsp\;</span><span style="color: rgb(51\, 51\, 51)\;">Saraland Civic Center</span><span style="color: rgb(51\, 51\, 51)\;">&nbsp\;fo<span style="color: rgb(68\, 68\, 68)\;">r our Monthly Membership Luncheon with guest speaker\, Mayor Joe McDonald</span></span></strong></span></span>\n<p class="cvGsUA direction-ltr align-start para-style-body" style="color: rgba(0\,0\,0\,var(--O42jJQ\,1))\; caret-color: rgb(0\, 0\, 0)\; --8sD0Kg: none\; font-family: YAFdJjTk5UU_0\, _fb_\, auto\; --cyV3ZQ: 15.9999px\; --gJPlXQ: 1.3\; letter-spacing: 0.03em\; --s8NbEA: p\; line-height: 20px\;"><span class="a_GcMg font-feature-liga-off font-feature-clig-off font-feature-calt-off text-decoration-none text-strikethrough-none" style="color: rgba(0\,0\,0\,var(--O42jJQ\,1))\; --Ys-XuQ: none\; font-kerning: none\;">&quot\;Mayor Joe McDonald is a lifelong resident of Saraland and a proud graduate of Satsuma High School. He went on to earn a Bachelor&rsquo\;s Degree in Criminal Justice with a minor in Political Science from the University of South Alabama. For the past 18 years\, he has been employed with SSAB\, where he currently serves as Warehouse Manager.</span></p>\n\n<p class="cvGsUA direction-ltr align-start para-style-body" style="color: rgba(0\,0\,0\,var(--O42jJQ\,1))\; caret-color: rgb(0\, 0\, 0)\; --8sD0Kg: none\; font-family: YAFdJjTk5UU_0\, _fb_\, auto\; --cyV3ZQ: 15.9999px\; --gJPlXQ: 1.3\; letter-spacing: 0.03em\; --s8NbEA: p\; line-height: 20px\;"><span class="a_GcMg font-feature-liga-off font-feature-clig-off font-feature-calt-off text-decoration-none text-strikethrough-none" style="color: rgba(0\,0\,0\,var(--O42jJQ\,1))\; --Ys-XuQ: none\; font-kerning: none\;">Mayor McDonald previously served four terms on the Saraland City Council and was elected Council President for three of those terms. Throughout his public service\, he has been guided by the values of leadership\, integrity\, honesty\, and community involvement. His priorities for Saraland include responsible\, well-planned growth\; investing in infrastructure\; ensuring competitive pay and support for city employees&mdash\;especially Police and Fire&mdash\;and partnering with local utilities to maintain clean\, safe\, and reliable services. He is also deeply committed to strengthening education and advancing key drainage and roadway projects such as Highway 158 and Celeste Road.</span></p>\n\n<p class="cvGsUA direction-ltr align-start para-style-body" style="color: rgba(0\,0\,0\,var(--O42jJQ\,1))\; caret-color: rgb(0\, 0\, 0)\; --8sD0Kg: none\; font-family: YAFdJjTk5UU_0\, _fb_\, auto\; --cyV3ZQ: 15.9999px\; --gJPlXQ: 1.3\; letter-spacing: 0.03em\; --s8NbEA: p\; line-height: 20px\;"><span class="a_GcMg font-feature-liga-off font-feature-clig-off font-feature-calt-off text-decoration-none text-strikethrough-none" style="color: rgba(0\,0\,0\,var(--O42jJQ\,1))\; --Ys-XuQ: none\; font-kerning: none\;">A devoted family man and Christian\, Joe and his wife of 28 years\, Susie\, are the proud parents of four children: Joe Jr.\, Josie\, JP\, and Lulu. The McDonald family are active members of Fountain of Life Church. Mayor McDonald&rsquo\;s commitment is simple and heartfelt: to continue Saraland&rsquo\;s positive growth while preserving the beauty\, safety\, and hometown spirit that make the city a wonderful place for families&mdash\;today and for generations to come. Go Spartans!&quot\;</span></p>\n<br />\n<br />\n<br style="color: rgb(51\, 51\, 51)\; font-family: sans-serif\, Arial\, Verdana\, &quot\;Trebuchet MS&quot\;\; font-size: 13px\;" />\n<em style="color: rgb(51\, 51\, 51)\; font-family: sans-serif\, Arial\, Verdana\, &quot\;Trebuchet MS&quot\;\; font-size: 13px\;"><span style="font-size: 20px\;"><strong><span style="font-style: inherit\; font-variant: inherit\; font-weight: inherit\; font-stretch: inherit\; letter-spacing: inherit\; text-align: inherit\; text-indent: inherit\; text-transform: inherit\; white-space: inherit\; word-spacing: inherit\; background: none rgb(255\, 255\, 255)\; inset: auto\; box-sizing: content-box\; clear: none\; content: normal\; direction: inherit\; empty-cells: show\; max-height: none\; max-width: none\; min-height: initial\; min-width: initial\; opacity: 1\; outline-offset: 0px\; overflow: visible\; padding: 0px\; position: static\; resize: none\; table-layout: auto\; text-overflow: clip\; vertical-align: baseline\; visibility: inherit\; word-break: inherit\; overflow-wrap: inherit\; z-index: auto\; border-width: initial\; border-style: none\; border-collapse: separate\; border-image: none 100% 1 0 / 1 / 0 stretch\; border-radius: 0px\; height: auto\; width: auto\; box-shadow: none\;"><span style="font-family: inherit\;"><span style="color: rgb(0\, 0\, 255)\;">We appreciate this month&#39\;s sponsor: Laurel Flowers State Farm</span></span></span></strong></span><br />\n<span style="font-style: inherit\; font-variant: inherit\; font-weight: inherit\; letter-spacing: inherit\; text-align: inherit\; text-indent: inherit\; text-transform: inherit\; white-space: inherit\; word-spacing: inherit\; background: none rgb(255\, 255\, 255)\; font-stretch: inherit\; inset: auto\; box-sizing: content-box\; clear: none\; content: normal\; direction: inherit\; empty-cells: show\; max-height: none\; max-width: none\; min-height: initial\; min-width: initial\; opacity: 1\; outline-offset: 0px\; overflow: visible\; padding: 0px\; position: static\; resize: none\; table-layout: auto\; text-overflow: clip\; vertical-align: baseline\; visibility: inherit\; word-break: inherit\; overflow-wrap: inherit\; z-index: auto\; border-width: initial\; border-style: none\; border-collapse: separate\; border-image: none 100% 1 0 / 1 / 0 stretch\; border-radius: 0px\; height: auto\; width: auto\; box-shadow: none\;"><span style="font-size: 16px\;"><span style="color: rgb(0\, 0\, 255)\;"><span style="font-family: arial\, sans-serif-light\, sans-serif\;"><strong><span style="font-size: 14px\;">Catered by:</span>&nbsp\;Georgia Rousso&#39\;s Catering</strong></span></span></span></span></em><br style="color: rgb(51\, 51\, 51)\; font-family: sans-serif\, Arial\, Verdana\, &quot\;Trebuchet MS&quot\;\; font-size: 13px\;" />\n<span style="color: rgb(51\, 51\, 51)\; font-family: sans-serif\, Arial\, Verdana\, &quot\;Trebuchet MS&quot\;\; font-size: 13px\; background-color: rgb(255\, 255\, 255)\;">&nbsp\;</span><br style="color: rgb(51\, 51\, 51)\; font-family: sans-serif\, Arial\, Verdana\, &quot\;Trebuchet MS&quot\;\; font-size: 13px\;" />\n<strong style="color: rgb(51\, 51\, 51)\; font-family: sans-serif\, Arial\, Verdana\, &quot\;Trebuchet MS&quot\;\; font-size: 13px\;"><span style="color: rgb(0\, 100\, 0)\;">Split the Pot tickets will be available to purchase for $1 each. (Cash Only)&nbsp\;<br />\n<em>-Proceeds raised benefit our Junior Ambassador Scholarship program.</em></span></strong><br />\n&nbsp\;
LOCATION:Saraland Civic Center
UID:e.3406.1179
SEQUENCE:3
DTSTAMP:20260425T233913Z
URL:https://business.saralandchamber.com/events/details/january-membership-luncheon-1179
END:VEVENT

END:VCALENDAR
