BEGIN:VCALENDAR
VERSION:2.0
PRODID:-//ChamberMaster//Event Calendar 2.0//EN
METHOD:PUBLISH
X-PUBLISHED-TTL:P3D
REFRESH-INTERVAL:P3D
CALSCALE:GREGORIAN
BEGIN:VEVENT
DTSTART:20190611T164500Z
DTEND:20190611T180000Z
X-MICROSOFT-CDO-ALLDAYEVENT:FALSE
SUMMARY:June Membership Luncheon
DESCRIPTION:Please join us for our Monthly Chamber Luncheon with Guest Speaker\, Scott Tindle\n\nCatered by: Georgia Roussos Catering
X-ALT-DESC;FMTTYPE=text/html:<span style="color: rgb(68\, 68\, 68)\; font-family: Arial\, Helvetica\, sans-serif\; font-size: 14px\;">Please join us for our Monthly Chamber Luncheon with Guest Speaker\, Scott Tindle<br>\nCatered by: Georgia Roussos Catering</span>
LOCATION:Saraland Civic Center 716 Mae Street Saraland\, AL 36571
UID:e.3406.19
SEQUENCE:3
DTSTAMP:20260421T124110Z
URL:https://business.saralandchamber.com/events/details/june-membership-luncheon-19
END:VEVENT

END:VCALENDAR
