BEGIN:VCALENDAR
VERSION:2.0
PRODID:-//ChamberMaster//Event Calendar 2.0//EN
METHOD:PUBLISH
X-PUBLISHED-TTL:P3D
REFRESH-INTERVAL:P3D
CALSCALE:GREGORIAN
BEGIN:VEVENT
DTSTART:20230621T170000Z
DTEND:20230621T183000Z
X-MICROSOFT-CDO-ALLDAYEVENT:FALSE
SUMMARY:Lunch & Learn- Effective First Impressions
DESCRIPTION:Join us for our quarterly Lunch & Learn with Ian Mohorn.
X-ALT-DESC;FMTTYPE=text/html:<span style="font-size:22px\;">Join us for our quarterly Lunch &amp\; Learn with Ian Mohorn.&nbsp\;</span>
LOCATION:Saraland Area Chamber of Commerce 939 Saraland Blvd. S Saraland\, AL 36571
UID:e.3406.596
SEQUENCE:3
DTSTAMP:20260423T200511Z
URL:https://business.saralandchamber.com/events/details/lunch-learn-effective-first-impressions-596
END:VEVENT

END:VCALENDAR
