BEGIN:VCALENDAR
VERSION:2.0
PRODID:-//ChamberMaster//Event Calendar 2.0//EN
METHOD:PUBLISH
X-PUBLISHED-TTL:P3D
REFRESH-INTERVAL:P3D
CALSCALE:GREGORIAN
BEGIN:VEVENT
DTSTART:20251112T173000Z
DTEND:20251112T190000Z
X-MICROSOFT-CDO-ALLDAYEVENT:FALSE
SUMMARY:Lunch & Learn- hosted by Women's Resource Center
DESCRIPTION:Join us for our quarterly Lunch & Learn hosted and sponsored by Women's Resource Center\n\n \nLunch & Learn with the Women's Resource Center\n\nJoin us for an engaging Lunch & Learn with the Women's Resource Center (WRC) as we share how our organization serves the community through our three core pillars: Prevention\, Intervention\, and Empowerment. This session will highlight our Empower to Thrive (E2T) program\, which brings Sexual Risk Avoidance (SRA) education into local schools equipping students to make informed\, healthy decisions about relationships\, sexual integrity\, and personal wellbeing. Unlike Comprehensive Sex Education\, which focuses on risk reduction\, SRA prioritizes risk avoidance empowering youth to set goals\, build character\, and pursue their future free from avoidable barriers. We'll also share updates on the Alabama SRAE Coalition and current legislation\, including SB3\, that supports this vital work. Finally\, discover practical ways to get involved by volunteering\, connecting us with schools\, contacting your senator\, or attending our Gala in March.\n\n\n\n\n*REGISTRATION REQUIRED FOR LUNCH.\n\n\n\nLunch served at 11:30\, meeting starts at noon.
X-ALT-DESC;FMTTYPE=text/html:<span style="font-size:22px\;">Join us for our quarterly Lunch &amp\; Learn hosted and sponsored by Women&#39\;s Resource Center</span><br />\n&nbsp\;\n<div dir="auto" style="border: 0px\; font-variant-numeric: inherit\; font-variant-east-asian: inherit\; font-variant-alternates: inherit\; font-variant-position: inherit\; font-variant-emoji: inherit\; font-stretch: inherit\; font-size: 12pt\; line-height: inherit\; font-family: Aptos\, Aptos_MSFontService\, -apple-system\, Roboto\, Arial\, Helvetica\, sans-serif\; font-optical-sizing: inherit\; font-size-adjust: inherit\; font-kerning: inherit\; font-feature-settings: inherit\; font-variation-settings: inherit\; margin: 0px\; padding: 0px\; vertical-align: baseline\; color: rgb(36\, 36\, 36)\; background-color: rgb(255\, 255\, 255)\;"><b data-olk-copy-source="MessageBody">Lunch &amp\; Learn with the Women&rsquo\;s Resource Center</b></div>\n\n<div dir="auto" style="border: 0px\; font-style: inherit\; font-variant: inherit\; font-weight: inherit\; font-stretch: inherit\; font-size: 12pt\; line-height: inherit\; font-family: Aptos\, Aptos_MSFontService\, -apple-system\, Roboto\, Arial\, Helvetica\, sans-serif\; font-optical-sizing: inherit\; font-size-adjust: inherit\; font-kerning: inherit\; font-feature-settings: inherit\; font-variation-settings: inherit\; margin: 0px\; padding: 0px\; vertical-align: baseline\; color: inherit\;"><span class="x_gmail-im" style="border: 0px\; font-variant-numeric: inherit\; font-variant-east-asian: inherit\; font-variant-alternates: inherit\; font-variant-position: inherit\; font-variant-emoji: inherit\; font-stretch: inherit\; font-size: 15px\; line-height: inherit\; font-family: &quot\;Segoe UI&quot\;\, &quot\;Segoe UI Web (West European)&quot\;\, -apple-system\, BlinkMacSystemFont\, Roboto\, &quot\;Helvetica Neue&quot\;\, sans-serif\; font-optical-sizing: inherit\; font-size-adjust: inherit\; font-kerning: inherit\; font-feature-settings: inherit\; font-variation-settings: inherit\; margin: 0px\; padding: 0px\; vertical-align: baseline\; color: rgb(36\, 36\, 36)\; background-color: rgb(255\, 255\, 255)\;">Join us for an engaging Lunch &amp\; Learn with the Women&rsquo\;s Resource Center (WRC) as we share how our organization serves the community through our three core pillars: Prevention\, Intervention\, and Empowerment. This session will highlight our Empower to Thrive (E2T) program\, which brings Sexual Risk Avoidance (SRA) education into local schools&mdash\;equipping students to make informed\, healthy decisions about relationships\, sexual integrity\, and personal wellbeing. Unlike Comprehensive Sex Education\, which focuses on risk reduction\, SRA prioritizes risk avoidance&mdash\;empowering youth to set goals\, build character\, and pursue their future free from avoidable barriers. We&rsquo\;ll also share updates on the Alabama SRAE Coalition and current legislation\, including SB3\, that supports this vital work. Finally\, discover practical ways to get involved&mdash\;by volunteering\, connecting us with schools\, contacting your senator\, or attending our Gala in March.</span></div>\n<br />\n<br />\n<span style="font-size:22px\;"><span style="color:#FF0000\;">*REGISTRATION REQUIRED FOR LUNCH.</span><br />\n<br />\nLunch served at 11:30\, meeting starts at noon.</span><br />\n&nbsp\;
LOCATION:Saraland Area Chamber of Commerce 727 Saraland Blvd. S Saraland\, AL 36571
UID:e.3406.1173
SEQUENCE:3
DTSTAMP:20260426T020852Z
URL:https://business.saralandchamber.com/events/details/lunch-learn-hosted-by-women-s-resource-center-1173
END:VEVENT

END:VCALENDAR
