BEGIN:VCALENDAR
VERSION:2.0
PRODID:-//ChamberMaster//Event Calendar 2.0//EN
METHOD:PUBLISH
X-PUBLISHED-TTL:P3D
REFRESH-INTERVAL:P3D
CALSCALE:GREGORIAN
BEGIN:VEVENT
DTSTART:20260310T164500Z
DTEND:20260310T180000Z
X-MICROSOFT-CDO-ALLDAYEVENT:FALSE
SUMMARY:March Membership Luncheon
DESCRIPTION:Please join us at the Saraland Civic Center for our Monthly Membership Luncheon with guest panel\, Marty Carrell\, Laurel Flowers and Melissa Laster of Women's Resource Center.  Moderated by Danielle Dials\n\nTopic: Empowering the Next Generation: Community Impact in Action\n\n\n\nWe appreciate this month's sponsor: Cadence Bank \n\nCatered by: Chick-fil-A Saraland\n\n\n\nSTUDENT OF THE QUARTER RECOGNITIONS PRESENTED & SPONSORED BY: CADENCE BANK\n\nCHICKASAW ELEMENTARY: Ka'Mari Murphy Blake \n\nLEE ELEMENTARY: Pierce Robertson\n\nNORTH MOBILE CHRISTIAN: McKenna Talbot\n\nSARALAND ELEMENTARY: Emalie Brunet\n\n \n\nSplit the Pot tickets will be available to purchase for $1 each. (Cash Only) \n\n-Proceeds raised benefit our Junior Ambassador Scholarship program.
X-ALT-DESC;FMTTYPE=text/html:<span style="font-size:14px\;"><span style="font-family:arial\;"><strong><span style="color: rgb(51\, 51\, 51)\;"><span style="color: rgb(68\, 68\, 68)\;">Please join us at th</span></span><span style="color: rgb(51\, 51\, 51)\;">e&nbsp\;</span><span style="color: rgb(51\, 51\, 51)\;">Saraland Civic Center</span><span style="color: rgb(51\, 51\, 51)\;">&nbsp\;fo<span style="color: rgb(68\, 68\, 68)\;">r our Monthly Membership Luncheon with guest panel\, Marty Carrell\, Laurel Flowers and Melissa Laster of Women&#39\;s Resource Center.&nbsp\; Moderated by Danielle Dials<br />\nTopic: <em>Empowering the Next Generation: Community Impact in Action</em></span></span></strong></span></span><br />\n<br style="color: rgb(51\, 51\, 51)\; font-family: sans-serif\, Arial\, Verdana\, &quot\;Trebuchet MS&quot\;\; font-size: 13px\;" />\n<em style="color: rgb(51\, 51\, 51)\; font-family: sans-serif\, Arial\, Verdana\, &quot\;Trebuchet MS&quot\;\; font-size: 13px\;"><span style="font-size: 20px\;"><strong><span style="font-style: inherit\; font-variant: inherit\; font-weight: inherit\; font-stretch: inherit\; letter-spacing: inherit\; text-align: inherit\; text-indent: inherit\; text-transform: inherit\; white-space: inherit\; word-spacing: inherit\; background: none rgb(255\, 255\, 255)\; inset: auto\; box-sizing: content-box\; clear: none\; content: normal\; direction: inherit\; empty-cells: show\; max-height: none\; max-width: none\; min-height: initial\; min-width: initial\; opacity: 1\; outline-offset: 0px\; overflow: visible\; padding: 0px\; position: static\; resize: none\; table-layout: auto\; text-overflow: clip\; vertical-align: baseline\; visibility: inherit\; word-break: inherit\; overflow-wrap: inherit\; z-index: auto\; border-width: initial\; border-style: none\; border-collapse: separate\; border-image: none 100% 1 0 / 1 / 0 stretch\; border-radius: 0px\; height: auto\; width: auto\; box-shadow: none\;"><span style="font-family: inherit\;"><span style="color: rgb(0\, 0\, 255)\;">We appreciate this month&#39\;s sponsor: Cadence Bank&nbsp\;</span></span></span></strong></span><br />\n<span style="font-style: inherit\; font-variant: inherit\; font-weight: inherit\; letter-spacing: inherit\; text-align: inherit\; text-indent: inherit\; text-transform: inherit\; white-space: inherit\; word-spacing: inherit\; background: none rgb(255\, 255\, 255)\; font-stretch: inherit\; inset: auto\; box-sizing: content-box\; clear: none\; content: normal\; direction: inherit\; empty-cells: show\; max-height: none\; max-width: none\; min-height: initial\; min-width: initial\; opacity: 1\; outline-offset: 0px\; overflow: visible\; padding: 0px\; position: static\; resize: none\; table-layout: auto\; text-overflow: clip\; vertical-align: baseline\; visibility: inherit\; word-break: inherit\; overflow-wrap: inherit\; z-index: auto\; border-width: initial\; border-style: none\; border-collapse: separate\; border-image: none 100% 1 0 / 1 / 0 stretch\; border-radius: 0px\; height: auto\; width: auto\; box-shadow: none\;"><span style="font-size: 16px\;"><span style="color: rgb(0\, 0\, 255)\;"><span style="font-family: arial\, sans-serif-light\, sans-serif\;"><strong><span style="font-size: 14px\;">Catered by:</span>&nbsp\;</strong></span></span><span style="color:#FF0000\;"><span style="font-family: arial\, sans-serif-light\, sans-serif\;"><strong>Chick-fil-A Saraland</strong></span></span><br />\n<br />\n<span style="color:#000000\;"><span style="font-family: arial\, sans-serif-light\, sans-serif\;"><strong>STUDENT OF THE QUARTER RECOGNITIONS PRESENTED &amp\; SPONSORED BY: CADENCE BANK<br />\nCHICKASAW ELEMENTARY: Ka&#39\;Mari Murphy Blake</strong></span></span></span></span></em><span style="font-family:aptos\,sans-serif\;"><span style="font-size:12.0pt\;">&nbsp\;</span></span><br />\n<span style="color:#000000\;"><em><span style="font-style: inherit\; font-variant: inherit\; font-weight: inherit\; letter-spacing: inherit\; text-align: inherit\; text-indent: inherit\; text-transform: inherit\; white-space: inherit\; word-spacing: inherit\; background-image: none\; background-position: initial\; background-size: initial\; background-repeat: initial\; background-attachment: initial\; background-origin: initial\; background-clip: initial\; font-stretch: inherit\; inset: auto\; box-sizing: content-box\; clear: none\; content: normal\; direction: inherit\; empty-cells: show\; max-height: none\; max-width: none\; min-height: initial\; min-width: initial\; opacity: 1\; outline-offset: 0px\; overflow: visible\; padding: 0px\; position: static\; resize: none\; table-layout: auto\; text-overflow: clip\; vertical-align: baseline\; visibility: inherit\; word-break: inherit\; overflow-wrap: inherit\; z-index: auto\; border-width: initial\; border-style: none\; border-collapse: separate\; border-image: none 100% 1 0 / 1 / 0 stretch\; border-radius: 0px\; height: auto\; width: auto\; box-shadow: none\;"><span style="font-size: 16px\;"><span style="font-family: arial\, sans-serif-light\, sans-serif\;"><strong>LEE ELEMENTARY: Pierce Robertson</strong></span></span></span></em><br />\n<em style="color: rgb(51\, 51\, 51)\; font-family: sans-serif\, Arial\, Verdana\, &quot\;Trebuchet MS&quot\;\; font-size: 13px\;"><span style="font-style: inherit\; font-variant: inherit\; font-weight: inherit\; letter-spacing: inherit\; text-align: inherit\; text-indent: inherit\; text-transform: inherit\; white-space: inherit\; word-spacing: inherit\; background: none rgb(255\, 255\, 255)\; font-stretch: inherit\; inset: auto\; box-sizing: content-box\; clear: none\; content: normal\; direction: inherit\; empty-cells: show\; max-height: none\; max-width: none\; min-height: initial\; min-width: initial\; opacity: 1\; outline-offset: 0px\; overflow: visible\; padding: 0px\; position: static\; resize: none\; table-layout: auto\; text-overflow: clip\; vertical-align: baseline\; visibility: inherit\; word-break: inherit\; overflow-wrap: inherit\; z-index: auto\; border-width: initial\; border-style: none\; border-collapse: separate\; border-image: none 100% 1 0 / 1 / 0 stretch\; border-radius: 0px\; height: auto\; width: auto\; box-shadow: none\;"><span style="font-size: 16px\;"><span style="font-family: arial\, sans-serif-light\, sans-serif\;"><strong>NORTH MOBILE CHRISTIAN: McKenna Talbot</strong></span></span></span></em><br />\n<em style="color: rgb(51\, 51\, 51)\; font-family: sans-serif\, Arial\, Verdana\, &quot\;Trebuchet MS&quot\;\; font-size: 13px\;"><span style="font-style: inherit\; font-variant: inherit\; font-weight: inherit\; letter-spacing: inherit\; text-align: inherit\; text-indent: inherit\; text-transform: inherit\; white-space: inherit\; word-spacing: inherit\; background: none rgb(255\, 255\, 255)\; font-stretch: inherit\; inset: auto\; box-sizing: content-box\; clear: none\; content: normal\; direction: inherit\; empty-cells: show\; max-height: none\; max-width: none\; min-height: initial\; min-width: initial\; opacity: 1\; outline-offset: 0px\; overflow: visible\; padding: 0px\; position: static\; resize: none\; table-layout: auto\; text-overflow: clip\; vertical-align: baseline\; visibility: inherit\; word-break: inherit\; overflow-wrap: inherit\; z-index: auto\; border-width: initial\; border-style: none\; border-collapse: separate\; border-image: none 100% 1 0 / 1 / 0 stretch\; border-radius: 0px\; height: auto\; width: auto\; box-shadow: none\;"><span style="font-size: 16px\;"><span style="font-family: arial\, sans-serif-light\, sans-serif\;"><strong>SARALAND ELEMENTARY: Emalie Brunet</strong></span></span></span></em></span><br style="color: rgb(51\, 51\, 51)\; font-family: sans-serif\, Arial\, Verdana\, &quot\;Trebuchet MS&quot\;\; font-size: 13px\;" />\n<span style="color: rgb(51\, 51\, 51)\; font-family: sans-serif\, Arial\, Verdana\, &quot\;Trebuchet MS&quot\;\; font-size: 13px\; background-color: rgb(255\, 255\, 255)\;">&nbsp\;</span><br style="color: rgb(51\, 51\, 51)\; font-family: sans-serif\, Arial\, Verdana\, &quot\;Trebuchet MS&quot\;\; font-size: 13px\;" />\n<strong style="color: rgb(51\, 51\, 51)\; font-family: sans-serif\, Arial\, Verdana\, &quot\;Trebuchet MS&quot\;\; font-size: 13px\;"><span style="color: rgb(0\, 100\, 0)\;">Split the Pot tickets will be available to purchase for $1 each. (Cash Only)&nbsp\;<br />\n<em>-Proceeds raised benefit our Junior Ambassador Scholarship program.</em></span></strong><br />\n&nbsp\;
LOCATION:Saraland Civic Center
UID:e.3406.1195
SEQUENCE:3
DTSTAMP:20260425T221237Z
URL:https://business.saralandchamber.com/events/details/march-membership-luncheon-1195
END:VEVENT

END:VCALENDAR
