BEGIN:VCALENDAR
VERSION:2.0
PRODID:-//ChamberMaster//Event Calendar 2.0//EN
METHOD:PUBLISH
X-PUBLISHED-TTL:P3D
REFRESH-INTERVAL:P3D
CALSCALE:GREGORIAN
BEGIN:VEVENT
DTSTART:20190514T164500Z
DTEND:20190514T180000Z
X-MICROSOFT-CDO-ALLDAYEVENT:FALSE
SUMMARY:May Membership Luncheon
DESCRIPTION:Please join us for our Monthly Chamber Luncheon
X-ALT-DESC;FMTTYPE=text/html:<span style="color: rgb(68\, 68\, 68)\; font-family: Arial\, Helvetica\, sans-serif\; font-size: 14px\;">Please join us for our Monthly Chamber Luncheon</span>
LOCATION:Saraland Civic Center 716 Mae Street Saraland\, AL 36571
UID:e.3406.18
SEQUENCE:3
DTSTAMP:20260421T154302Z
URL:https://business.saralandchamber.com/events/details/may-membership-luncheon-18
END:VEVENT

END:VCALENDAR
