BEGIN:VCALENDAR
VERSION:2.0
PRODID:-//ChamberMaster//Event Calendar 2.0//EN
METHOD:PUBLISH
X-PUBLISHED-TTL:P3D
REFRESH-INTERVAL:P3D
CALSCALE:GREGORIAN
BEGIN:VEVENT
DTSTART:20191008T120000Z
DTEND:20191008T130000Z
X-MICROSOFT-CDO-ALLDAYEVENT:FALSE
SUMMARY:Mayor's Prayer Breakfast
DESCRIPTION:Mayor's Prayer Breakfast\n\nwith Special Guest\n\nDr. Lonnie Burnett\, Interim President\, University of Mobile            \n\n\n\n*Event brought to you by the Saraland Christian Ministerial Association.*
X-ALT-DESC;FMTTYPE=text/html:Mayor&#39\;s Prayer Breakfast<br />\nwith Special Guest<br />\nDr. Lonnie Burnett\, Interim President\, University of Mobile&nbsp\;&nbsp\;&nbsp\;&nbsp\;&nbsp\;&nbsp\;&nbsp\;&nbsp\;&nbsp\;&nbsp\;&nbsp\;&nbsp\;<br />\n<br />\n*Event brought to you by the Saraland Christian Ministerial Association.*
LOCATION:Saraland Civic Center 716 Mae Street
UID:e.3406.48
SEQUENCE:3
DTSTAMP:20260421T083237Z
URL:https://business.saralandchamber.com/events/details/mayor-s-prayer-breakfast-48
END:VEVENT

END:VCALENDAR
