BEGIN:VCALENDAR
VERSION:2.0
PRODID:-//ChamberMaster//Event Calendar 2.0//EN
METHOD:PUBLISH
X-PUBLISHED-TTL:P3D
REFRESH-INTERVAL:P3D
CALSCALE:GREGORIAN
BEGIN:VEVENT
DTSTART:20190822T150000Z
DTEND:20190822T220000Z
X-MICROSOFT-CDO-ALLDAYEVENT:FALSE
SUMMARY:Mobile Area Chamber of Commerce Business EXPO
DESCRIPTION:Come see us at the Mobile Area Chamber of Commerce Business EXPO!\n\nOver 200 vendors in attendance.
X-ALT-DESC;FMTTYPE=text/html:Come see us at the Mobile Area Chamber of Commerce Business EXPO!<br />\nOver 200 vendors in attendance.
LOCATION:Mobile Convention Center 1 South Water Street\, Mobile\, AL
UID:e.3406.47
SEQUENCE:3
DTSTAMP:20260421T111938Z
URL:https://business.saralandchamber.com/events/details/mobile-area-chamber-of-commerce-business-expo-47
END:VEVENT

END:VCALENDAR
