BEGIN:VCALENDAR
VERSION:2.0
PRODID:-//ChamberMaster//Event Calendar 2.0//EN
METHOD:PUBLISH
X-PUBLISHED-TTL:P3D
REFRESH-INTERVAL:P3D
CALSCALE:GREGORIAN
BEGIN:VEVENT
DTSTART:20260120T230000Z
DTEND:20260121T010000Z
X-MICROSOFT-CDO-ALLDAYEVENT:FALSE
SUMMARY:North Mobile Republican Women - Meet the Candidates
DESCRIPTION:Come meet candidates for the upcoming Primary. Our membership is open to Republican women. Our meetings are open to all conservatives\, men and women. There are many candidates for the upcoming Primary. How do you choose who to vote for? Our votes decide our future. \n\nTalk personally with the candidates at 5pm. Program begins at 6pm. This month meet and hear Caroleen Dobson for Secretary of State\, Doug Harwell for Senate 34\, and Jack Williams for Agriculture Commissioner. Wayne Biggs\, recent member of Saraland City Council and candidate for mayor of Saraland\, and incumbent for Mobile County Republican Executive Committee will also speak.
X-ALT-DESC;FMTTYPE=text/html:<span style="background-color:rgb(255\, 255\, 255)\; color:rgb(8\, 8\, 9)\; font-family:segoe ui historic\,segoe ui\,helvetica\,arial\,sans-serif\; font-size:15px">Come meet candidates for the upcoming Primary. Our membership is open to Republican women. Our meetings are open to all conservatives\, men and women. There are many candidates for the upcoming Primary. How do you choose who to vote for? Our votes decide our future.&nbsp\;</span><br />\n<span style="background-color:rgb(255\, 255\, 255)\; color:rgb(8\, 8\, 9)\; font-family:segoe ui historic\,segoe ui\,helvetica\,arial\,sans-serif\; font-size:15px">Talk personally with the candidates at 5pm. Program begins at 6pm. This month meet and hear Caroleen Dobson for Secretary of State\, Doug Harwell for Senate 34\, and Jack Williams for Agriculture Commissioner. Wayne Biggs\, recent member of Saraland City Council and candidate for mayor of Saraland\, and incumbent for Mobile County Republican Executive Committee will also speak.&nbsp\;</span><br />\n&nbsp\;
LOCATION:Kalifield Clubhouse\, 3100 Clubhouse Dr\, Saraland\, AL
UID:e.3406.1189
SEQUENCE:3
DTSTAMP:20260425T234042Z
URL:https://business.saralandchamber.com/events/details/north-mobile-republican-women-meet-the-candidates-1189
END:VEVENT

END:VCALENDAR
