BEGIN:VCALENDAR
VERSION:2.0
PRODID:-//ChamberMaster//Event Calendar 2.0//EN
METHOD:PUBLISH
X-PUBLISHED-TTL:P3D
REFRESH-INTERVAL:P3D
CALSCALE:GREGORIAN
BEGIN:VEVENT
DTSTART:20241112T174500Z
DTEND:20241112T190000Z
X-MICROSOFT-CDO-ALLDAYEVENT:FALSE
SUMMARY:November Membership Luncheon
DESCRIPTION:Please join us for our Monthly Membership Luncheon with\n\nGuest Speaker:  Mayor Dr. Howard Rubenstein\n\nAnnual State of the City Address\n\n\n\nWe appreciate this month's sponsor: Aztecas Restaurant & Cantina\n\nCatered by: Aztecas Restaurant & Cantina\n\n\n\nWe will also VOTE for Business of the Year. \n\n \n\n\n\nSplit the Pot tickets will be available to purchase for $1 each. (Cash Only) \n\n-Proceeds raised benefit our Junior Ambassador Scholarship program.\n\n\n\nYou may also purchase your 2024 Saraland Christmas Ornament at the luncheon for $20 each!\n\n(Previous years ornaments available for $5 each.)\n\n\n\nDr. Howard Rubenstein received his BS degree from the University of Illinois\, Urbana/Champaign and his Doctor of Medicine Degree from the University of Illinois\, College of Medicine\, in Chicago. He then travelled to Pensacola\, Florida where he completed his residency training in Family Medicine.\n\nHe has resided in Saraland since 1985 and is co-founder of the Saraland Medical Arts Clinic and Rubenstein Family Medical Associates.  In 2018\, his practice merged with Alabama Medical Group. He is a past-president of the Saraland Lions Club\, the Saraland Area Chamber of Commerce\, the Saraland Civic Forum\, and the Delta School Association\, which led to the formation of the Saraland City School System. For 21 years\, Dr. Rubenstein volunteered as the team physician for the Satsuma High School Gators and retired from this same service for the Saraland Spartans after last years' football season. (Go Spartans!) He was honored as the Saraland Civic Forum's Citizen of the Year in 1995.\n\nDr. Rubenstein recently completed a three-year term as Chairman of the Department of Family Medicine at Springhill Medical Center. He holds the rank of Associate Professor at the University of South Alabama\, College of Medicine\, and helps train medical students and residents for careers in primary care medicine. Dr. Rubenstein serves as medical director for Saads Hospice and also serves as principal investigator for the Center for Clinical Trials in Saraland.\n\nIn 1996\, Dr. Rubenstein began his service to the City as a Councilmember. He was chosen as Saraland's first Council President when a change in the form of government occurred in 2004 and was reelected to that position in 2008. He has served as the City's liaison to the Saraland Board of Education from its inception. Dr. Rubenstein was serving his fourth term on the Council\, when he transitioned into the position of Mayor in January 2011 due to the unexpected passing of former Mayor Ken Williams.  Dr. Rubenstein was re-elected as Mayor of Saraland in 2012\, 2016 and most recently in 2020.  Dr. Rubenstein has earned the Emeritus Certified Municipal Official status from the Alabama League of Municipalities and was elected to the Executive Committee of this prestigious organization in June 2011.  He was elected to serve as Vice-president of the League in 2016 and elected President in 2017.  He is the first elected official from Mobile County to be chosen to lead the ALM since 1978. In 2019\, Dr. Rubenstein was chosen Alabama Star Mayor of the Year by the Alabama Communities of Excellence.\n\nDr. Rubenstein has been married to wife\, Tamara\, for the past 41 years.  Their elder son\, Cody died tragically from a rare heart defect at age 27 in 2012.  Their younger son\, Kelby\, and wife\, Jessica\, are the proud parents of a six-year-old daughter\, Alexandra Joye.
X-ALT-DESC;FMTTYPE=text/html:<span style="color: rgb(51\, 51\, 51)\; font-family: sans-serif\, Arial\, Verdana\, &quot\;Trebuchet MS&quot\;\; font-size: 16px\;"><strong><span style="color: rgb(68\, 68\, 68)\; font-family: Arial\, Helvetica\, sans-serif\; background-color: rgb(255\, 255\, 255)\;">Please join us for our Monthly Membership Luncheon with</span><br style="color: rgb(68\, 68\, 68)\; font-family: Arial\, Helvetica\, sans-serif\; font-size: 14px\; background-color: rgb(255\, 255\, 255)\;" />\n<span style="color: rgb(68\, 68\, 68)\; font-family: Arial\, Helvetica\, sans-serif\; background-color: rgb(255\, 255\, 255)\;">Guest Speaker:&nbsp\;</span></strong></span><strong style="font-size: 16px\;"><span style="color: rgb(68\, 68\, 68)\; font-family: Arial\, Helvetica\, sans-serif\;">&nbsp\;Mayor&nbsp\;</span></strong><span style="color: rgb(51\, 51\, 51)\; font-family: sans-serif\, Arial\, Verdana\, &quot\;Trebuchet MS&quot\;\; font-size: 16px\;"><strong><span style="color: rgb(68\, 68\, 68)\; font-family: Arial\, Helvetica\, sans-serif\; background-color: rgb(255\, 255\, 255)\;">Dr. Howard Rubenstein</span></strong></span><br style="background-color: rgb(255\, 255\, 255)\; color: rgb(68\, 68\, 68)\; font-family: Arial\, Helvetica\, sans-serif\; font-size: 14px\;" />\n<em style="background-color: rgb(255\, 255\, 255)\; color: rgb(68\, 68\, 68)\; font-family: Arial\, Helvetica\, sans-serif\; font-size: 14px\;"><span style="font-size: 16px\;"><strong>Annual State of the City Address</strong></span></em><br style="color: rgb(51\, 51\, 51)\; font-family: sans-serif\, Arial\, Verdana\, &quot\;Trebuchet MS&quot\;\; font-size: 13px\;" />\n<br style="color: rgb(51\, 51\, 51)\; font-family: sans-serif\, Arial\, Verdana\, &quot\;Trebuchet MS&quot\;\; font-size: 13px\;" />\n<em style="color: rgb(51\, 51\, 51)\; font-family: sans-serif\, Arial\, Verdana\, &quot\;Trebuchet MS&quot\;\; font-size: 13px\; background-color: rgb(255\, 255\, 255)\;"><span style="color: rgb(255\, 0\, 0)\;"><span style="font-size: 20px\;"><strong><span style="font-style: inherit\; font-variant: inherit\; font-weight: inherit\; font-stretch: inherit\; line-height: inherit\; font-family: inherit\; letter-spacing: inherit\; text-align: inherit\; text-indent: inherit\; text-transform: inherit\; white-space: inherit\; word-spacing: inherit\; background-image: none\; background-position: initial\; background-size: initial\; background-repeat: initial\; background-attachment: initial\; background-origin: initial\; background-clip: initial\; inset: auto\; box-sizing: content-box\; clear: none\; content: normal\; direction: inherit\; empty-cells: show\; margin: 0px\; max-height: none\; max-width: none\; min-height: initial\; min-width: initial\; opacity: 1\; outline-offset: 0px\; overflow: visible\; padding: 0px\; position: static\; resize: none\; table-layout: auto\; text-overflow: clip\; vertical-align: baseline\; visibility: inherit\; word-break: inherit\; overflow-wrap: inherit\; z-index: auto\; border-width: initial\; border-style: none\; border-color: initial\; border-collapse: separate\; border-image: none 100% 1 0 / 1 / 0 stretch\; border-radius: 0px\; height: auto\; width: auto\; box-shadow: none\;">We appreciate this month&#39\;s sponsor: Aztecas Restaurant &amp\; Cantina</span></strong></span></span><br />\n<span style="color: rgb(51\, 102\, 0)\;"><span style="font-style: inherit\; font-variant: inherit\; font-weight: inherit\; letter-spacing: inherit\; text-align: inherit\; text-indent: inherit\; text-transform: inherit\; white-space: inherit\; word-spacing: inherit\; background-image: none\; background-position: initial\; background-size: initial\; background-repeat: initial\; background-attachment: initial\; background-origin: initial\; background-clip: initial\; font-stretch: inherit\; line-height: inherit\; inset: auto\; box-sizing: content-box\; clear: none\; content: normal\; direction: inherit\; empty-cells: show\; margin: 0px\; max-height: none\; max-width: none\; min-height: initial\; min-width: initial\; opacity: 1\; outline-offset: 0px\; overflow: visible\; padding: 0px\; position: static\; resize: none\; table-layout: auto\; text-overflow: clip\; vertical-align: baseline\; visibility: inherit\; word-break: inherit\; overflow-wrap: inherit\; z-index: auto\; border-width: initial\; border-style: none\; border-color: initial\; border-collapse: separate\; border-image: none 100% 1 0 / 1 / 0 stretch\; border-radius: 0px\; height: auto\; width: auto\; box-shadow: none\; font-size: 16px\;"><font face="arial\, sans-serif-light\, sans-serif"><strong><span style="font-size: 14px\;">Catered by:</span>&nbsp\;Aztecas Restaurant &amp\; Cantina</strong></font></span></span><br />\n<br />\n<span style="color:#0000FF\;"><span style="font-style: inherit\; font-variant: inherit\; font-weight: inherit\; letter-spacing: inherit\; text-align: inherit\; text-indent: inherit\; text-transform: inherit\; white-space: inherit\; word-spacing: inherit\; background-image: none\; background-position: initial\; background-size: initial\; background-repeat: initial\; background-attachment: initial\; background-origin: initial\; background-clip: initial\; font-stretch: inherit\; line-height: inherit\; inset: auto\; box-sizing: content-box\; clear: none\; content: normal\; direction: inherit\; empty-cells: show\; margin: 0px\; max-height: none\; max-width: none\; min-height: initial\; min-width: initial\; opacity: 1\; outline-offset: 0px\; overflow: visible\; padding: 0px\; position: static\; resize: none\; table-layout: auto\; text-overflow: clip\; vertical-align: baseline\; visibility: inherit\; word-break: inherit\; overflow-wrap: inherit\; z-index: auto\; border-width: initial\; border-style: none\; border-color: initial\; border-collapse: separate\; border-image: none 100% 1 0 / 1 / 0 stretch\; border-radius: 0px\; height: auto\; width: auto\; box-shadow: none\; font-size: 16px\;"><font face="arial\, sans-serif-light\, sans-serif"><strong>We will also VOTE for Business of the Year.&nbsp\;</strong></font></span></span></em><br style="color: rgb(51\, 51\, 51)\; font-family: sans-serif\, Arial\, Verdana\, &quot\;Trebuchet MS&quot\;\; font-size: 13px\; background-color: rgb(255\, 255\, 255)\;" />\n<span style="color: rgb(51\, 51\, 51)\; font-family: sans-serif\, Arial\, Verdana\, &quot\;Trebuchet MS&quot\;\; font-size: 13px\; background-color: rgb(255\, 255\, 255)\;">&nbsp\;</span><br style="color: rgb(51\, 51\, 51)\; font-family: sans-serif\, Arial\, Verdana\, &quot\;Trebuchet MS&quot\;\; font-size: 13px\; background-color: rgb(255\, 255\, 255)\;" />\n<br style="color: rgb(51\, 51\, 51)\; font-family: sans-serif\, Arial\, Verdana\, &quot\;Trebuchet MS&quot\;\; font-size: 13px\; background-color: rgb(255\, 255\, 255)\;" />\n<span style="font-family: sans-serif\, Arial\, Verdana\, &quot\;Trebuchet MS&quot\;\; font-size: 13px\; color: rgb(0\, 0\, 255)\;"><strong style="color: rgb(51\, 51\, 51)\; background-color: rgb(255\, 255\, 255)\;">Split the Pot tickets will be available to purchase for $1 each. (Cash Only)&nbsp\;<br />\n<em>-Proceeds raised benefit our Junior Ambassador Scholarship program.</em></strong></span><br style="color: rgb(51\, 51\, 51)\; font-family: sans-serif\, Arial\, Verdana\, &quot\;Trebuchet MS&quot\;\; font-size: 13px\;" />\n<br style="color: rgb(51\, 51\, 51)\; font-family: sans-serif\, Arial\, Verdana\, &quot\;Trebuchet MS&quot\;\; font-size: 13px\;" />\n<span style="background-color: rgb(255\, 255\, 255)\; color: rgb(68\, 68\, 68)\; font-family: Arial\, Helvetica\, sans-serif\; font-size: 14px\;">You may also purchase your 2024 Saraland Christmas Ornament at the luncheon for $20 each!<br />\n(</span><span style="color: rgb(68\, 68\, 68)\; font-family: Arial\, Helvetica\, sans-serif\; font-size: 14px\;">Previous years ornaments available for $5 each.)</span><br />\n<br />\n<span style="color:#000080\;"><span style="font-family:calibri\;"><span style="font-size:12.0pt\;">Dr. Howard Rubenstein received his BS degree from the University of Illinois\, Urbana/Champaign and his Doctor of Medicine Degree from the University of Illinois\, College of Medicine\, in Chicago. He then travelled to Pensacola\, Florida where he completed his residency training in Family Medicine.</span></span><br />\n<span style="font-family:calibri\;"><span style="font-size:12.0pt\;">He has resided in Saraland since 1985 and is co-founder of the Saraland Medical Arts Clinic and Rubenstein Family Medical Associates. &nbsp\;In 2018\, his practice merged with Alabama Medical Group. He is a past-president of the Saraland Lions Club\, the Saraland Area Chamber of Commerce\, the Saraland Civic Forum\, and the Delta School Association\, which led to the formation of the Saraland City School System. For 21 years\, Dr. Rubenstein volunteered as the team physician for the Satsuma High School Gators and retired from this same service for the Saraland Spartans after last years&rsquo\; football season. (Go Spartans!) He was honored as the Saraland Civic Forum&rsquo\;s Citizen of the Year in 1995.</span></span><br />\n<span style="font-family:calibri\;"><span style="font-size:12.0pt\;">Dr. Rubenstein recently completed a three-year term as Chairman of the Department of Family Medicine at Springhill Medical Center. He holds the rank of Associate Professor at the University of South Alabama\, College of Medicine\, and helps train medical students and residents for careers in primary care medicine. Dr. Rubenstein serves as medical director for Saads Hospice and also serves as principal investigator for the Center for Clinical Trials in Saraland.</span></span><br />\n<span style="font-family:calibri\;"><span style="font-size:12.0pt\;">In 1996\, Dr. Rubenstein began his service to the City as a Councilmember. He was chosen as Saraland&rsquo\;s first Council President when a change in the form of government occurred in 2004 and was reelected to that position in 2008. He has served as the City&rsquo\;s liaison to the Saraland Board of Education from its inception. Dr. Rubenstein was serving his fourth term on the Council\, when he transitioned into the position of Mayor in January 2011 due to the unexpected passing of former Mayor Ken Williams. &nbsp\;Dr. Rubenstein was re-elected as Mayor of Saraland in 2012\, 2016 and most recently in 2020.&nbsp\; Dr. Rubenstein has earned the Emeritus Certified Municipal Official status from the Alabama League of Municipalities and was elected to the Executive Committee of this prestigious organization in June 2011.&nbsp\; He was elected to serve as Vice-president of the League in 2016 and elected President in 2017.&nbsp\; He is the first elected official from Mobile County to be chosen to lead the ALM since 1978. In 2019\, Dr. Rubenstein was chosen Alabama Star Mayor of the Year by the Alabama Communities of Excellence.</span></span><br />\n<span style="font-family:calibri\;"><span style="font-size:12.0pt\;">Dr. Rubenstein has been married to wife\, Tamara\, for the past 41 years.&nbsp\; Their elder son\, Cody died tragically from a rare heart defect at age 27 in 2012.&nbsp\; Their younger son\, Kelby\, and wife\, Jessica\, are the proud parents of a six-year-old daughter\, Alexandra Joye.</span></span><br />\n&nbsp\;</span><br />\n&nbsp\;
LOCATION:Saraland Civic Center
UID:e.3406.705
SEQUENCE:3
DTSTAMP:20260420T105822Z
URL:https://business.saralandchamber.com/events/details/november-membership-luncheon-705
END:VEVENT

END:VCALENDAR
