BEGIN:VCALENDAR
VERSION:2.0
PRODID:-//ChamberMaster//Event Calendar 2.0//EN
METHOD:PUBLISH
X-PUBLISHED-TTL:P3D
REFRESH-INTERVAL:P3D
CALSCALE:GREGORIAN
BEGIN:VEVENT
DTSTART:20191008T164500Z
DTEND:20191008T180000Z
X-MICROSOFT-CDO-ALLDAYEVENT:FALSE
SUMMARY:October Membership Luncheon
DESCRIPTION:Please join us for our Monthly Chamber Luncheon with\n\nGuest Speaker: John Wilson\, L.A.W Enterprise\n\n\n\n2020 Board Elections will also take place.  Voting begins at 11:30 and closes at 12:00.  One representative from each business will be able to vote.  Businesses must be a member in order to vote in election.\n\n\n\nStudent of the Quarter certificates and recognition will be presented.  This quarter's awards sponsored by Piggly Wiggly.\n\n\n\nWe look forward to seeing you there!
X-ALT-DESC;FMTTYPE=text/html:<span style="color: rgb(68\, 68\, 68)\; font-family: Arial\, Helvetica\, sans-serif\; font-size: 14px\;">Please join us for our Monthly Chamber Luncheon with<br />\nGuest Speaker: John Wilson\, L.A.W Enterprise<br />\n<br />\n<strong>2020 Board Elections</strong> will also take place.&nbsp\; Voting begins at 11:30 and closes at 12:00.&nbsp\; One representative from each business will be able to vote.&nbsp\; Businesses must be a member in order to vote in election.<br />\n<br />\n<strong>Student of the Quarter</strong> certificates and recognition will be presented.&nbsp\; This quarter&#39\;s awards sponsored by Piggly Wiggly.<br />\n<br />\nWe look forward to seeing you there!</span><br />\n<br />\n&nbsp\;
LOCATION:Saraland Civic Center 716 Mae Street Saraland\, AL 36571
UID:e.3406.52
SEQUENCE:3
DTSTAMP:20260421T085015Z
URL:https://business.saralandchamber.com/events/details/october-membership-luncheon-52
END:VEVENT

END:VCALENDAR
