BEGIN:VCALENDAR
VERSION:2.0
PRODID:-//ChamberMaster//Event Calendar 2.0//EN
METHOD:PUBLISH
X-PUBLISHED-TTL:P3D
REFRESH-INTERVAL:P3D
CALSCALE:GREGORIAN
BEGIN:VEVENT
DTSTART:20260115T140000Z
DTEND:20260115T150000Z
X-MICROSOFT-CDO-ALLDAYEVENT:FALSE
SUMMARY:President's Reception for New Members
DESCRIPTION:Make the Most of Your Membership   Starting Now!  \n\nMeet Chamber President Danielle Dials. Whether you're looking to grow your network\, promote your business\, or discover all the Chamber can do for you   this is the place to start.\n\n  Get insider tips on maximizing your membership\n\n  Explore exciting new programs and benefits\n\n  Network with other professionals who are just getting started\n\n  Start building meaningful connections from day one\n\n  Space is limited   please RSVP today!\n\n  Register Now
X-ALT-DESC;FMTTYPE=text/html:<p data-end="141" data-start="81">&#127775\; <strong data-end="136" data-start="84">Make the Most of Your Membership &mdash\; Starting Now!</strong> &#127775\;</p>\n\n<p data-end="445" data-start="143">Meet Chamber President Danielle Dials. Whether you&rsquo\;re looking to grow your network\, promote your business\, or discover all the Chamber can do for you &mdash\; this is the place to start.</p>\n\n<p data-end="665" data-start="447">&#9989\; Get insider tips on maximizing your membership<br data-end="498" data-start="495" />\n&#9989\; Explore exciting new programs and benefits<br data-end="545" data-start="542" />\n&#9989\; Network with other professionals who are just getting started<br data-end="611" data-start="608" />\n&#9989\; Start building meaningful connections from day one</p>\n\n<p data-end="826" data-start="766">&#127919\; Space is limited &mdash\; please RSVP today!<br data-end="809" data-start="806" />\n&#128073\; <strong>Register Now</strong></p>\n
LOCATION:Saraland Area Chamber of Commerce. Board Room
UID:e.3406.1180
SEQUENCE:3
DTSTAMP:20260425T233858Z
URL:https://business.saralandchamber.com/events/details/president-s-reception-for-new-members-1180
END:VEVENT

END:VCALENDAR
