BEGIN:VCALENDAR
VERSION:2.0
PRODID:-//ChamberMaster//Event Calendar 2.0//EN
METHOD:PUBLISH
X-PUBLISHED-TTL:P3D
REFRESH-INTERVAL:P3D
CALSCALE:GREGORIAN
BEGIN:VEVENT
DTSTART:20190509T210000Z
DTEND:20190509T220000Z
X-MICROSOFT-CDO-ALLDAYEVENT:FALSE
SUMMARY:Punchkix Ribbon Cutting
DESCRIPTION:Please join us as we celebrate the Grand Opening of Punchkix with a Ribbon Cutting ceremony. Help us welcome one of Saraland's newest businesses to our Chamber family.
X-ALT-DESC;FMTTYPE=text/html:Please join us as we celebrate the Grand Opening of Punchkix with a Ribbon Cutting ceremony.&nbsp\;Help us welcome one of Saraland&#39\;s newest businesses to our Chamber family.
LOCATION:1494 Celeste Road Saraland\, AL 36571
UID:e.3406.24
SEQUENCE:3
DTSTAMP:20260421T141340Z
URL:https://business.saralandchamber.com/events/details/punchkix-ribbon-cutting-24
END:VEVENT

END:VCALENDAR
