BEGIN:VCALENDAR
VERSION:2.0
PRODID:-//ChamberMaster//Event Calendar 2.0//EN
METHOD:PUBLISH
X-PUBLISHED-TTL:P3D
REFRESH-INTERVAL:P3D
CALSCALE:GREGORIAN
BEGIN:VEVENT
DTSTART:20230623T170000Z
DTEND:20230623T180000Z
X-MICROSOFT-CDO-ALLDAYEVENT:FALSE
SUMMARY:Ribbon Cutting- Bella & Bow's Pet Salon North Mobile
DESCRIPTION:Please join us in welcoming\n\nBella & Bow's Pet Salon North Mobile\n\nto Saraland!\n\n\n\nRibbon Cutting Celebration at 12 pm
X-ALT-DESC;FMTTYPE=text/html:<span style="font-size:36px\;">Please join us in welcoming<br />\nBella &amp\; Bow&#39\;s Pet Salon North Mobile<br />\nto Saraland!<br />\n<br />\nRibbon Cutting Celebration at 12 pm</span>
LOCATION:
UID:e.3406.599
SEQUENCE:3
DTSTAMP:20260423T191410Z
URL:https://business.saralandchamber.com/events/details/ribbon-cutting-bella-bow-s-pet-salon-north-mobile-599
END:VEVENT

END:VCALENDAR
