BEGIN:VCALENDAR
VERSION:2.0
PRODID:-//ChamberMaster//Event Calendar 2.0//EN
METHOD:PUBLISH
X-PUBLISHED-TTL:P3D
REFRESH-INTERVAL:P3D
CALSCALE:GREGORIAN
BEGIN:VEVENT
DTSTART:20230629T180000Z
DTEND:20230629T190000Z
X-MICROSOFT-CDO-ALLDAYEVENT:FALSE
SUMMARY:Ribbon Cutting- Cakes by Design
DESCRIPTION:Please join us in welcoming\n\nCakes by Designs\n\nto Saraland!\n\n\n\nRibbon Cutting Celebration at 1 pm
X-ALT-DESC;FMTTYPE=text/html:<span style="font-size:36px\;">Please join us in welcoming<br />\nCakes by Designs<br />\nto Saraland!<br />\n<br />\nRibbon Cutting Celebration at 1 pm</span>
LOCATION:
UID:e.3406.601
SEQUENCE:3
DTSTAMP:20260423T190236Z
URL:https://business.saralandchamber.com/events/details/ribbon-cutting-cakes-by-design-601
END:VEVENT

END:VCALENDAR
