BEGIN:VCALENDAR
VERSION:2.0
PRODID:-//ChamberMaster//Event Calendar 2.0//EN
METHOD:PUBLISH
X-PUBLISHED-TTL:P3D
REFRESH-INTERVAL:P3D
CALSCALE:GREGORIAN
BEGIN:VEVENT
DTSTART:20260213T170000Z
DTEND:20260213T180000Z
X-MICROSOFT-CDO-ALLDAYEVENT:FALSE
SUMMARY:Ribbon Cutting- Cody S. Poe\, Attorney at Law
DESCRIPTION:Please join us in welcoming\n\nCody S. Poe\, Attorney at Law to Saraland!\n\n\n\nRibbon Cutting Celebration at 11:00 am\n\n\n\nVisit us on Facebook:\n\nCody S. Poe\, Attorney at Law\n\nCody Poe is an accident and criminal defense attorney serving clients in Mobile County\, Alabama.
X-ALT-DESC;FMTTYPE=text/html:<span style="font-size:36px\;">Please join us in welcoming<br />\nCody S. Poe\, Attorney at Law to Saraland!<br />\n<br />\nRibbon Cutting Celebration at 11:00 am<br />\n<br />\nVisit us on Facebook:<br />\n<a href="https://www.facebook.com/reel/1304226601753929">Cody S. Poe\, Attorney at Law</a></span><br />\n<strong><span style="color: rgb(8\, 8\, 9)\; font-family: &quot\;Segoe UI Historic&quot\;\, &quot\;Segoe UI&quot\;\, Helvetica\, Arial\, sans-serif\; font-size: 15px\; background-color: rgb(255\, 255\, 255)\;">Cody Poe is an accident and criminal defense attorney serving clients in Mobile County\, Alabama.</span></strong><br />\n<br />\n<br />\n&nbsp\;
LOCATION:
UID:e.3406.1197
SEQUENCE:3
DTSTAMP:20260425T222507Z
URL:https://business.saralandchamber.com/events/details/ribbon-cutting-cody-s-poe-attorney-at-law-1197
END:VEVENT

END:VCALENDAR
