BEGIN:VCALENDAR
VERSION:2.0
PRODID:-//ChamberMaster//Event Calendar 2.0//EN
METHOD:PUBLISH
X-PUBLISHED-TTL:P3D
REFRESH-INTERVAL:P3D
CALSCALE:GREGORIAN
BEGIN:VEVENT
DTSTART:20200213T180000Z
DTEND:20200213T190000Z
X-MICROSOFT-CDO-ALLDAYEVENT:FALSE
SUMMARY:Ribbon Cutting- Direct Auto Sales
DESCRIPTION:Join us as we celebrate our newest member\n\nDirect Auto Insurance\n\n1095 Industrial Parkway\n\nInside Wal-Mart
X-ALT-DESC;FMTTYPE=text/html:<em>Join us as we celebrate our newest member</em><br />\n<span style="font-size:22px\;"><strong>Direct Auto Insurance<br />\n1095 Industrial Parkway<br />\nInside Wal-Mart</strong></span><br />\n&nbsp\;
LOCATION:1095 Industrial Parkway ((inside Wal-Mart) Saraland\, AL 36571
UID:e.3406.109
SEQUENCE:3
DTSTAMP:20260421T082451Z
URL:https://business.saralandchamber.com/events/details/ribbon-cutting-direct-auto-sales-109
END:VEVENT

END:VCALENDAR
