BEGIN:VCALENDAR
VERSION:2.0
PRODID:-//ChamberMaster//Event Calendar 2.0//EN
METHOD:PUBLISH
X-PUBLISHED-TTL:P3D
REFRESH-INTERVAL:P3D
CALSCALE:GREGORIAN
BEGIN:VEVENT
DTSTART:20260225T170000Z
DTEND:20260225T180000Z
X-MICROSOFT-CDO-ALLDAYEVENT:FALSE
SUMMARY:Ribbon Cutting- Drive Out Automotive & Tire Center
DESCRIPTION:Please join us in welcoming\n\nDrive Out Automotive & Tire Center to Saraland!\n\n\n\nRibbon Cutting Celebration at 11:00 am\n\n\n\nVisit us on Facebook:\n\nDrive Out Automotive & Tire Center\n\nNew And used tires\, Complete Auto Repair\, Wheel Alignment\, Oil Change and Tune Up\, AC Repair\, Brake Repair and Much More Services!
X-ALT-DESC;FMTTYPE=text/html:<span style="font-size:36px\;">Please join us in welcoming<br />\nDrive Out Automotive &amp\; Tire Center to Saraland!<br />\n<br />\nRibbon Cutting Celebration at 11:00 am<br />\n<br />\nVisit us on Facebook:<br />\n<a href="https://www.facebook.com/profile.php?id=61585442031673">Drive Out Automotive &amp\; Tire Center</a></span><br />\n<span style="color: rgb(8\, 8\, 9)\; font-family: &quot\;Segoe UI Historic&quot\;\, &quot\;Segoe UI&quot\;\, Helvetica\, Arial\, sans-serif\; font-size: 15px\; background-color: rgb(255\, 255\, 255)\;">New And used tires\, Complete Auto Repair\, Wheel Alignment\, Oil Change and Tune Up\, AC Repair\, Brake Repair and Much More Services!</span><br />\n<br />\n&nbsp\;
LOCATION:
UID:e.3406.1196
SEQUENCE:3
DTSTAMP:20260425T222506Z
URL:https://business.saralandchamber.com/events/details/ribbon-cutting-drive-out-automotive-tire-center-1196
END:VEVENT

END:VCALENDAR
