BEGIN:VCALENDAR
VERSION:2.0
PRODID:-//ChamberMaster//Event Calendar 2.0//EN
METHOD:PUBLISH
X-PUBLISHED-TTL:P3D
REFRESH-INTERVAL:P3D
CALSCALE:GREGORIAN
BEGIN:VEVENT
DTSTART:20191018T180000Z
DTEND:20191018T190000Z
X-MICROSOFT-CDO-ALLDAYEVENT:FALSE
SUMMARY:Ribbon Cutting/ Grand Opening @ Nu(ish) Tanning & Wellness
DESCRIPTION:Please join us as we celebrate the Grand Opening of our newest member\,\n\nNu(ish) Tanning and Wellness
X-ALT-DESC;FMTTYPE=text/html:<span style="font-size:16px\;">Please join us as we celebrate the Grand Opening of our newest member\,</span><br />\n<span style="font-size:20px\;"><strong>Nu(ish) Tanning and Wellness</strong></span>
LOCATION:510 Saraland Blvd S Saraland\, AL 36571
UID:e.3406.56
SEQUENCE:3
DTSTAMP:20260421T084215Z
URL:https://business.saralandchamber.com/events/details/ribbon-cutting-grand-opening-nu-ish-tanning-wellness-56
END:VEVENT

END:VCALENDAR
