BEGIN:VCALENDAR
VERSION:2.0
PRODID:-//ChamberMaster//Event Calendar 2.0//EN
METHOD:PUBLISH
X-PUBLISHED-TTL:P3D
REFRESH-INTERVAL:P3D
CALSCALE:GREGORIAN
BEGIN:VEVENT
DTSTART:20191025T180000Z
DTEND:20191025T190000Z
X-MICROSOFT-CDO-ALLDAYEVENT:FALSE
SUMMARY:Ribbon Cutting/ Grand Opening @ Sweet Ettalee Boutique & Gifts
DESCRIPTION:Please join us as we celebrate the Grand Opening of our newest member\,\n\nSweet Ettalee Boutique & Gifts
X-ALT-DESC;FMTTYPE=text/html:<span style="font-size:16px\;">Please join us as we celebrate the Grand Opening of our newest member\,</span><br />\n<span style="font-size:20px\;"><strong>Sweet Ettalee Boutique &amp\; Gifts</strong></span>
LOCATION:19 Anderson Road Saraland\, AL 36571
UID:e.3406.57
SEQUENCE:3
DTSTAMP:20260423T092518Z
URL:https://business.saralandchamber.com/events/details/ribbon-cutting-grand-opening-sweet-ettalee-boutique-gifts-57
END:VEVENT

END:VCALENDAR
