BEGIN:VCALENDAR
VERSION:2.0
PRODID:-//ChamberMaster//Event Calendar 2.0//EN
METHOD:PUBLISH
X-PUBLISHED-TTL:P3D
REFRESH-INTERVAL:P3D
CALSCALE:GREGORIAN
BEGIN:VEVENT
DTSTART:20230628T213000Z
DTEND:20230628T233000Z
X-MICROSOFT-CDO-ALLDAYEVENT:FALSE
SUMMARY:Ribbon Cutting- Infirmary Cancer Care
DESCRIPTION:You're invited to tour the new\n\nInfirmary Cancer Care oncology offices.\n\n\n\n* Refreshments served.
X-ALT-DESC;FMTTYPE=text/html:<span style="font-size:36px\;"><strong><span style="font-family:times new roman\;"><em>You&#39\;re invited&nbsp\;</em>to tour the new<br />\nInfirmary Cancer Care oncology offices.</span></strong></span><br />\n<br />\n<em>* Refreshments served.</em>
LOCATION:95 Shell Street\, Third Floor Saraland\, AL 36571
UID:e.3406.591
SEQUENCE:3
DTSTAMP:20260423T191826Z
URL:https://business.saralandchamber.com/events/details/ribbon-cutting-infirmary-cancer-care-591
END:VEVENT

END:VCALENDAR
