BEGIN:VCALENDAR
VERSION:2.0
PRODID:-//ChamberMaster//Event Calendar 2.0//EN
METHOD:PUBLISH
X-PUBLISHED-TTL:P3D
REFRESH-INTERVAL:P3D
CALSCALE:GREGORIAN
BEGIN:VEVENT
DTSTART:20260401T210000Z
DTEND:20260401T223000Z
X-MICROSOFT-CDO-ALLDAYEVENT:FALSE
SUMMARY:Ribbon Cutting- TherapySouth
DESCRIPTION:Please join us in celebrating the Grand Opening of TherapySouth!\n\n\n\nRibbon Cutting Celebration at 4:00 pm\n\n\n\nVisit us on Facebook: TherapySouth
X-ALT-DESC;FMTTYPE=text/html:<span style="font-size:36px\;">Please join us in celebrating the Grand Opening of TherapySouth!<br />\n<br />\nRibbon Cutting Celebration at 4:00 pm<br />\n<br />\nVisit us on Facebook: <a href="https://www.facebook.com/profile.php?id=61585533073685">TherapySouth</a></span><br />\n&nbsp\;
LOCATION:
UID:e.3406.1207
SEQUENCE:3
DTSTAMP:20260425T195044Z
URL:https://business.saralandchamber.com/events/details/ribbon-cutting-therapysouth-1207
END:VEVENT

END:VCALENDAR
