BEGIN:VCALENDAR
VERSION:2.0
PRODID:-//ChamberMaster//Event Calendar 2.0//EN
METHOD:PUBLISH
X-PUBLISHED-TTL:P3D
REFRESH-INTERVAL:P3D
CALSCALE:GREGORIAN
BEGIN:VEVENT
DTSTART:20230608T153000Z
DTEND:20230608T183000Z
X-MICROSOFT-CDO-ALLDAYEVENT:FALSE
SUMMARY:Ribbon Cutting- Women's Resource Center
DESCRIPTION:NORTH MOBILE\n\nHere we come!\n\nWe are here to walk with you on your journey. We provide free and confidential pregnancy services for women and their families. Let us help you understand your options.
X-ALT-DESC;FMTTYPE=text/html:<h3 style="box-sizing: border-box\; margin: 0px\; padding: 0px 0px 10px\; border: 0px\; outline: 0px\; font-size: 45px\; text-size-adjust: 100%\; vertical-align: baseline\; background: rgb(255\, 255\, 255)\; line-height: 1.3em\; font-weight: 500\; font-family: &quot\;Raleway Bold&quot\;\, Helvetica\, Arial\, Lucida\, sans-serif\; text-align: center\;">NORTH MOBILE<br />\n<em>Here we come!</em></h3>\n\n<p style="box-sizing: border-box\; margin: 0px\; padding: 0px\; border: 0px\; outline: 0px\; font-size: 25px\; text-size-adjust: 100%\; vertical-align: baseline\; background: rgb(255\, 255\, 255)\; font-family: &quot\;Raleway Regular&quot\;\, Helvetica\, Arial\, Lucida\, sans-serif\; text-align: center\;">We are here to walk with you on your journey. We provide free and confidential pregnancy services for women and their families. Let us help you understand your options.</p>\n
LOCATION:
UID:e.3406.590
SEQUENCE:3
DTSTAMP:20260423T191713Z
URL:https://business.saralandchamber.com/events/details/ribbon-cutting-women-s-resource-center-590
END:VEVENT

END:VCALENDAR
