BEGIN:VCALENDAR
VERSION:2.0
PRODID:-//ChamberMaster//Event Calendar 2.0//EN
METHOD:PUBLISH
X-PUBLISHED-TTL:P3D
REFRESH-INTERVAL:P3D
CALSCALE:GREGORIAN
BEGIN:VEVENT
DTSTART;VALUE=DATE:20230707
DTEND;VALUE=DATE:20230801
TRANSP:TRANSPARENT
X-MICROSOFT-CDO-ALLDAYEVENT:TRUE
SUMMARY:Sam's Club Offer on Membership EXCLUSIVE.
DESCRIPTION:SARALAND AREA CHAMBER OF COMMERCE\n\nTEAM APPRECIATION!\n\n(First Time Membership Enrollments*)\n\nOffer Ends Monday\, July 31\, 2023\n\n\n\nSAM'S PLUS MEMBERSHIP\n\n$60 PER YEAR\n\n \n\nJoin as a Plus Member and Get $50 Off the Price of the Plus Membership\n\nFree Online Shipping\n\nEarn Sam's Cash\n\nEarly shopping (as early as 8 am)\n\nCurbside Pickup\n\nAll Club Membership Benefits\n\n\n\n  For Assistance Contact\n\n  Elisabeth \n\nSales and Training Manager\n\n251.232.1396\n\ne0d06pa.s08102.us@samsclub.com\n\n \n\n*Exclusive promotion for new members and renewing members over twelve months\n\n\n\n\n\nScan QR Code and Complete
X-ALT-DESC;FMTTYPE=text/html:<strong><span style="color:#333333\;"><span style="font-family:arial\,sans-serif\;"><span style="font-size:20.0pt\;">SARALAND AREA CHAMBER OF COMMERCE</span></span></span></strong><br />\n<strong><span style="color:#333333\;"><span style="font-family:arial\,sans-serif\;"><span style="font-size:20.0pt\;">TEAM APPRECIATION!</span></span></span></strong><br />\n<strong><span style="color:#333333\;"><span style="font-family:arial\,sans-serif\;"><span style="font-size:13.0pt\;">(First Time Membership Enrollments*)</span></span></span></strong><br />\n<strong><u><span style="color:#333333\;"><span style="font-family:arial\,sans-serif\;"><span style="font-size:14.0pt\;">Offer Ends Monday\, July 31\, 2023</span></span></span></u></strong><br />\n<br />\n<strong><span style="color:#333333\;"><span style="font-family:arial\,sans-serif\;"><span style="font-size:16.0pt\;">SAM&rsquo\;S PLUS MEMBERSHIP</span></span></span></strong><br />\n<strong><span style="color:#333333\;"><span style="font-family:arial\,sans-serif\;"><span style="font-size:16.0pt\;">$60 <span style="text-transform:uppercase\;">PER YEAR</span></span></span></span></strong><br />\n&nbsp\;<br />\n<strong><span style="color:#333333\;"><span style="font-family:arial\,sans-serif\;"><span style="font-size:13.0pt\;">Join as a Plus Member and Get $50 Off the Price of the Plus Membership</span></span></span></strong><br />\n<strong><span style="color:#333333\;"><span style="font-family:arial\,sans-serif\;"><span style="font-size:13.0pt\;">Free Online Shipping</span></span></span></strong><br />\n<strong><span style="color:#333333\;"><span style="font-family:arial\,sans-serif\;"><span style="font-size:13.0pt\;">Earn Sam&#39\;s Cash</span></span></span></strong><br />\n<strong><span style="color:#333333\;"><span style="font-family:arial\,sans-serif\;"><span style="font-size:13.0pt\;">Early shopping (as early as 8 am)</span></span></span></strong><br />\n<strong><span style="color:#333333\;"><span style="font-family:arial\,sans-serif\;"><span style="font-size:13.0pt\;">Curbside Pickup</span></span></span></strong><br />\n<strong><span style="color:#333333\;"><span style="font-family:arial\,sans-serif\;"><span style="font-size:13.0pt\;">All Club Membership Benefits</span></span></span><br />\n<br />\n<span style="font-family:arial\,sans-serif\;">&nbsp\; For Assistance Contact</span></strong><br />\n<strong><span style="font-family:arial\,sans-serif\;">&nbsp\; Elisabeth </span></strong><br />\n<strong><span style="font-family:arial\,sans-serif\;">Sales and Training Manager</span></strong><br />\n<strong><span style="font-family:arial\,sans-serif\;">251.232.1396</span></strong><br />\n<a href="mailto:e0d06pa.s08102.us@samsclub.com"><strong><span style="color:black\;"><span style="font-family:arial\,sans-serif\;">e0d06pa.s08102.us@samsclub.com</span></span></strong></a><br />\n&nbsp\;<br />\n<strong><span style="color:windowtext\;"><span style="font-family:arial\,sans-serif\;"><span style="font-size:11pt\;">*Exclusive promotion for new members and renewing members over twelve months</span></span></span></strong><br />\n<br />\n<br />\n<span style="font-size:28px\;"><strong><span style="font-family:arial\,sans-serif\;">Scan QR Code and Complete</span></strong></span>
LOCATION:
UID:e.3406.604
SEQUENCE:3
DTSTAMP:20260423T174427Z
URL:https://business.saralandchamber.com/events/details/sam-s-club-offer-on-membership-exclusive-604
END:VEVENT

END:VCALENDAR
