BEGIN:VCALENDAR
VERSION:2.0
PRODID:-//ChamberMaster//Event Calendar 2.0//EN
METHOD:PUBLISH
X-PUBLISHED-TTL:P3D
REFRESH-INTERVAL:P3D
CALSCALE:GREGORIAN
BEGIN:VEVENT
DTSTART:20190821T200000Z
DTEND:20190821T220000Z
X-MICROSOFT-CDO-ALLDAYEVENT:FALSE
SUMMARY:Saraland Area Chamber Open House
DESCRIPTION:Are you a new or established business in the Saraland area looking to grow and network with local business owners and leaders?  The Saraland Area Chamber of Commerce is for YOU!  We invite you to attend our OPEN HOUSE to learn more about our programs and services\, community connections\, and professional development opportunities.  This event is FREE to attend.  ALL Members and Non-Members are welcomed and encouraged to attend.  Refreshments served.
X-ALT-DESC;FMTTYPE=text/html:Are you a new or established business in the Saraland area looking to grow and network with local business owners and leaders?&nbsp\; The Saraland Area Chamber of Commerce is for YOU!&nbsp\; We invite you to attend our OPEN HOUSE to learn more about our programs and services\, community connections\, and professional development opportunities.&nbsp\; This event is FREE to attend.&nbsp\; ALL Members and Non-Members are welcomed and encouraged to attend.&nbsp\; Refreshments served.
LOCATION:Saraland Area Chamber of Commerce 939 Saraland Blvd. South
UID:e.3406.46
SEQUENCE:3
DTSTAMP:20260421T095000Z
URL:https://business.saralandchamber.com/events/details/saraland-area-chamber-open-house-46
END:VEVENT

END:VCALENDAR
