BEGIN:VCALENDAR
VERSION:2.0
PRODID:-//ChamberMaster//Event Calendar 2.0//EN
METHOD:PUBLISH
X-PUBLISHED-TTL:P3D
REFRESH-INTERVAL:P3D
CALSCALE:GREGORIAN
BEGIN:VEVENT
DTSTART:20240630T003000Z
DTEND:20240630T030000Z
X-MICROSOFT-CDO-ALLDAYEVENT:FALSE
SUMMARY:Saraland Fireworks Show
DESCRIPTION:Join us in celebrating our Independence Day with fireworks show on June 29th at Saraland High School.\n\nADMISSION IS FREE\n\nThis is a park and watch event with local food trucks on site.\n\n\n\nParticipating Food Trucks:\n\n- A Guy\, A Girl and Their Meat Wagon\n\n- Holly Jolly Snowcones\n\n- Horton's Snack Shack\n\n- In the Kitchen with Eva\n\n\n\n*Overflow parking available at Redemption Church with access to restrooms.
X-ALT-DESC;FMTTYPE=text/html:<div background-color:="" class="kvgmc6g5 cxmmr5t8 oygrvhab hcukyx3x c1et5uql" color:="" font-size:="" segoe="" style="overflow-wrap: break-word\; margin: 0px\; font-family: " ui="">Join us in celebrating our Independence&nbsp\;Day with fireworks show on June 29th&nbsp\;at Saraland High School.</div>\n\n<div background-color:="" class="cxmmr5t8 oygrvhab hcukyx3x c1et5uql o9v6fnle" color:="" font-size:="" segoe="" style="overflow-wrap: break-word\; margin: 0.5em 0px 0px\; font-family: " ui=""><span style="color:#FF0000\;">ADMISSION IS FREE</span></div>\n\n<div background-color:="" class="cxmmr5t8 oygrvhab hcukyx3x c1et5uql o9v6fnle" color:="" font-size:="" segoe="" style="overflow-wrap: break-word\; margin: 0.5em 0px 0px\; font-family: " ui=""><span style="color:#0000FF\;">This is a park and watch event with local food trucks on site.</span><br />\n<br />\n<span style="color:#000000\;">Participating Food Trucks:<br />\n- A Guy\, A Girl and Their Meat Wagon<br />\n- Holly Jolly Snowcones<br />\n- Horton&#39\;s Snack Shack<br />\n- In the Kitchen with Eva</span><br />\n<br />\n*Overflow parking available at Redemption Church with access to restrooms.</div>\n
LOCATION:Saraland High School
UID:e.3406.695
SEQUENCE:3
DTSTAMP:20260425T152811Z
URL:https://business.saralandchamber.com/events/details/saraland-fireworks-show-695
END:VEVENT

END:VCALENDAR
