BEGIN:VCALENDAR
VERSION:2.0
PRODID:-//ChamberMaster//Event Calendar 2.0//EN
METHOD:PUBLISH
X-PUBLISHED-TTL:P3D
REFRESH-INTERVAL:P3D
CALSCALE:GREGORIAN
BEGIN:VEVENT
DTSTART:20260328T113000Z
DTEND:20260328T153000Z
X-MICROSOFT-CDO-ALLDAYEVENT:FALSE
SUMMARY:Saraland Lions Club Pancake Breakfast
DESCRIPTION:*Support the missions of the Saraland Lions Club through this annual fundraiser.\n\n\n\nSaraland Lions Club Mission Statement:\n\nOur Club strives to be a leader in the provision of charitable services to our community\, our state\, our nation and the world. We focus our service in the areas of helping prevent blindness and treating vision-related impairment\, hunger\, diabetes and childhood cancer. Saraland Lions encourage service-minded individuals to serve with a spirit of fellowship. We foster this love of service with young people through our affiliated Leo Club. Saraland Lions serve when they can\, where they can\, and as much as they can.
X-ALT-DESC;FMTTYPE=text/html:<strong><span style="font-size:14px\;"><span style="font-family:arial\;"><span style="font-size:16px\;"><em>*Support the missions of the Saraland Lions Club through this annual fundraiser.</em></span></span></span></strong><br />\n<br />\n<em><span style="font-size:14px\;"><u><strong>Saraland Lions Club Mission Statement:</strong></u></span></em><br />\nOur Club strives to be a leader in the provision of charitable services to our community\, our state\, our nation and the world. We focus our service in the areas of helping prevent blindness and treating vision-related impairment\, hunger\, diabetes and childhood cancer. Saraland Lions encourage service-minded individuals to serve with a spirit of fellowship. We foster this love of service with young people through our affiliated Leo Club. Saraland Lions serve when they can\, where they can\, and as much as they can.<br />\n&nbsp\;
LOCATION:Stillwater Church 415 McKeough Ave. Saraland\, AL 36571
UID:e.3406.1208
SEQUENCE:3
DTSTAMP:20260425T210710Z
URL:https://business.saralandchamber.com/events/details/saraland-lions-club-pancake-breakfast-1208
END:VEVENT

END:VCALENDAR
