BEGIN:VCALENDAR
VERSION:2.0
PRODID:-//ChamberMaster//Event Calendar 2.0//EN
METHOD:PUBLISH
X-PUBLISHED-TTL:P3D
REFRESH-INTERVAL:P3D
CALSCALE:GREGORIAN
BEGIN:VEVENT
DTSTART:20190622T140000Z
DTEND:20190622T170000Z
X-MICROSOFT-CDO-ALLDAYEVENT:FALSE
SUMMARY:Saraland Veterinary Clinic/Kritter Sitters
DESCRIPTION:Grand Reopening/Open House. Charity Dog Wash To Benefit The Saraland Animal Shelter.
X-ALT-DESC;FMTTYPE=text/html:Grand Reopening/Open House. Charity Dog Wash To Benefit The Saraland Animal Shelter.
LOCATION:1222 Hwy 43\, Saraland\, AL
UID:e.3406.35
SEQUENCE:3
DTSTAMP:20260421T141201Z
URL:https://business.saralandchamber.com/events/details/saraland-veterinary-clinic-kritter-sitters-35
END:VEVENT

END:VCALENDAR
