BEGIN:VCALENDAR
VERSION:2.0
PRODID:-//ChamberMaster//Event Calendar 2.0//EN
METHOD:PUBLISH
X-PUBLISHED-TTL:P3D
REFRESH-INTERVAL:P3D
CALSCALE:GREGORIAN
BEGIN:VEVENT
DTSTART:20190627T213000Z
DTEND:20190627T223000Z
X-MICROSOFT-CDO-ALLDAYEVENT:FALSE
SUMMARY:TipTop Kimbles Cleaning Ribbon Cutting
DESCRIPTION:Please join us at the Ribbon Cutting for one of Saraland's newest businesses and chamber members!\n\nTipTop Kimble's Cleaning    \n\n\n\nEnjoy networking\, meet & welcome the owners\, and learn about products & services offered.
X-ALT-DESC;FMTTYPE=text/html:Please join us at the Ribbon Cutting for one of Saraland&#39\;s newest businesses and chamber members!<br />\n<span style="font-size:24px\;"><strong>TipTop Kimble&#39\;s Cleaning&nbsp\;&nbsp\;&nbsp\;&nbsp\;</strong></span><br />\n<br />\n<span style="font-size:12px\;">Enjoy networking\, meet &amp\; welcome the owners\, and learn about products &amp\; services offered.</span>
LOCATION:311-H Shelton Beach Rd Saraland\, AL 36571
UID:e.3406.30
SEQUENCE:3
DTSTAMP:20260421T141941Z
URL:https://business.saralandchamber.com/events/details/tiptop-kimbles-cleaning-ribbon-cutting-30
END:VEVENT

END:VCALENDAR
