BEGIN:VCALENDAR
VERSION:2.0
PRODID:-//ChamberMaster//Event Calendar 2.0//EN
METHOD:PUBLISH
X-PUBLISHED-TTL:P3D
REFRESH-INTERVAL:P3D
CALSCALE:GREGORIAN
BEGIN:VEVENT
DTSTART:20191024T223000Z
DTEND:20191025T000000Z
X-MICROSOFT-CDO-ALLDAYEVENT:FALSE
SUMMARY:Trunk or Treat
DESCRIPTION:TRUNK OR TREAT\n\n\n\nSaraland Area Chamber of Commerce is hosting its FIRST EVER Trunk or Treat as way to promote its members to the Saraland community. \n\n***Only 40 spots available!***  \n\nRegistered businesses will decorate their vehicle's trunk\, line up at Bread of Life parking lot on Thursday\, October 24th by 5 pm\, and pass out candy and/or promotional items to attendees.  This is a great way to promote your business\, meet community members\, and network!\n\n\n\nSIGN UP TODAY!
X-ALT-DESC;FMTTYPE=text/html:<span style="color:#FF8C00\;"><strong>TRUNK OR TREAT</strong></span><br />\n<br />\nSaraland Area Chamber of Commerce is hosting its FIRST EVER Trunk or Treat as way to promote its members to the Saraland community.&nbsp\;<br />\n<span style="color:#FF0000\;">***</span><strong><span style="color:#FF0000\;">Only 40 spots available!***&nbsp\;&nbsp\;</span></strong><br />\nRegistered businesses will decorate their vehicle&#39\;s trunk\, line up at Bread of Life parking lot on Thursday\, October 24th by 5 pm\, and pass out candy and/or promotional items to attendees.&nbsp\; This is a great way to promote your business\, meet community members\, and network!<br />\n<br />\n<strong>SIGN UP TODAY!</strong>
LOCATION:231 SHELTON BEACH RD (BREAD OF LIFE BOOKS & GIFTS PARKING LOT)
UID:e.3406.54
SEQUENCE:3
DTSTAMP:20260423T084030Z
URL:https://business.saralandchamber.com/events/details/trunk-or-treat-54
END:VEVENT

END:VCALENDAR
