BEGIN:VCALENDAR
VERSION:2.0
PRODID:-//ChamberMaster//Event Calendar 2.0//EN
METHOD:PUBLISH
X-PUBLISHED-TTL:P3D
REFRESH-INTERVAL:P3D
CALSCALE:GREGORIAN
BEGIN:VEVENT
DTSTART:20190603T143000Z
DTEND:20190603T153000Z
X-MICROSOFT-CDO-ALLDAYEVENT:FALSE
SUMMARY:Zaxby's Grand Opening
DESCRIPTION:Zaxby's Grand Opening/Ribbon Cutting
X-ALT-DESC;FMTTYPE=text/html:Zaxby&#39\;s Grand Opening/Ribbon Cutting
LOCATION:57 Shell St. Saraland\, AL 36571
UID:e.3406.25
SEQUENCE:3
DTSTAMP:20260421T124228Z
URL:https://business.saralandchamber.com/events/details/zaxby-s-grand-opening-25
END:VEVENT

END:VCALENDAR
